BEGIN:VCALENDAR
VERSION:2.0
PRODID:-//Candelaria - ECPv6.15.6//NONSGML v1.0//EN
CALSCALE:GREGORIAN
METHOD:PUBLISH
X-WR-CALNAME:Candelaria
X-ORIGINAL-URL:https://nueva.candelaria.es
X-WR-CALDESC:Eventos para Candelaria
REFRESH-INTERVAL;VALUE=DURATION:PT1H
X-Robots-Tag:noindex
X-PUBLISHED-TTL:PT1H
BEGIN:VTIMEZONE
TZID:Europe/London
BEGIN:DAYLIGHT
TZOFFSETFROM:+0000
TZOFFSETTO:+0100
TZNAME:BST
DTSTART:20200329T010000
END:DAYLIGHT
BEGIN:STANDARD
TZOFFSETFROM:+0100
TZOFFSETTO:+0000
TZNAME:GMT
DTSTART:20201025T010000
END:STANDARD
BEGIN:DAYLIGHT
TZOFFSETFROM:+0000
TZOFFSETTO:+0100
TZNAME:BST
DTSTART:20210328T010000
END:DAYLIGHT
BEGIN:STANDARD
TZOFFSETFROM:+0100
TZOFFSETTO:+0000
TZNAME:GMT
DTSTART:20211031T010000
END:STANDARD
BEGIN:DAYLIGHT
TZOFFSETFROM:+0000
TZOFFSETTO:+0100
TZNAME:BST
DTSTART:20220327T010000
END:DAYLIGHT
BEGIN:STANDARD
TZOFFSETFROM:+0100
TZOFFSETTO:+0000
TZNAME:GMT
DTSTART:20221030T010000
END:STANDARD
END:VTIMEZONE
BEGIN:VEVENT
DTSTART;TZID=Europe/London:20210827T180000
DTEND;TZID=Europe/London:20210827T193000
DTSTAMP:20260421T111638
CREATED:20210806T113705Z
LAST-MODIFIED:20210806T113705Z
UID:20606-1630087200-1630092600@nueva.candelaria.es
SUMMARY:Ruta 'Tesoros alimentarios del camino viejo'
DESCRIPTION:18.00 horas. Barranco Hondo e Igueste de Candelaria.\nRuta guiada que se adentrará en el pasado y presente agroalimentario de esta zona\, visitando los principales núcleos\netnográficos del Camino Viejo. +12 años.\nInscripciones: www.caminocandelaria.com u Oficina de\nInformación Turística.\nColabora: Gobierno de Canarias.
URL:https://nueva.candelaria.es/event/ruta-tesoros-alimentarios-del-camino-viejo/
CATEGORIES:Turismo
ATTACH;FMTTYPE=image/jpeg:https://nueva.candelaria.es/wp-content/uploads/Agenda-Agosto-2021-Pantallas-24.jpg
END:VEVENT
BEGIN:VEVENT
DTSTART;TZID=Europe/London:20210820T180000
DTEND;TZID=Europe/London:20210820T200000
DTSTAMP:20260421T111638
CREATED:20210806T113527Z
LAST-MODIFIED:20210806T113552Z
UID:20604-1629482400-1629489600@nueva.candelaria.es
SUMMARY:Ruta por el camino viejo
DESCRIPTION:18.00 horas.\nCamino Viejo de Candelaria.\nDescubre la vida de los habitantes y viajeros del camino desde Machado hasta Barranco Hondo. Apta para personas\nsin dificultad de movilidad y mayores de 8 años.\nInscripciones: www.caminocandelaria.com u Oficina de Información Turística.\nColabora: Gobierno de Canarias.
URL:https://nueva.candelaria.es/event/ruta-por-el-camino-viejo/
CATEGORIES:Turismo
ATTACH;FMTTYPE=image/jpeg:https://nueva.candelaria.es/wp-content/uploads/Agenda-Agosto-2021-Pantallas-23.jpg
END:VEVENT
BEGIN:VEVENT
DTSTART;TZID=Europe/London:20210820T163000
DTEND;TZID=Europe/London:20210820T180000
DTSTAMP:20260421T111638
CREATED:20210806T113341Z
LAST-MODIFIED:20210806T113341Z
UID:20600-1629477000-1629482400@nueva.candelaria.es
SUMMARY:Taller huerto ecológico en casa
DESCRIPTION:Centro Rural La Caseta de Candelaria.\nViernes 20. 16.30 h.\nSábado 21. 9.00 h.\nInfo: desarrollorural@candelaria.es
URL:https://nueva.candelaria.es/event/taller-huerto-ecologico-en-casa/
CATEGORIES:Desarrollo rural y pesquero
ATTACH;FMTTYPE=image/jpeg:https://nueva.candelaria.es/wp-content/uploads/Agenda-Agosto-2021-Pantallas-21.jpg
END:VEVENT
BEGIN:VEVENT
DTSTART;TZID=Europe/London:20210817T170000
DTEND;TZID=Europe/London:20210817T180000
DTSTAMP:20260421T111638
CREATED:20210806T113151Z
LAST-MODIFIED:20210806T113151Z
UID:20598-1629219600-1629223200@nueva.candelaria.es
SUMMARY:Semana de la juventud: talleres de rap con El Chojin
DESCRIPTION:Del 17 al 19 de agosto. \n17.00 Espacio Cultural Cine Viejo.\nTalleres gratuitos.\n30 plazas\n+ 14 años.\nInformación: zonajoven@candelaria.es
URL:https://nueva.candelaria.es/event/semana-de-la-juventud-talleres-de-rap-con-el-chojin/
ATTACH;FMTTYPE=image/jpeg:https://nueva.candelaria.es/wp-content/uploads/Agenda-Agosto-2021-Pantallas-20.jpg
END:VEVENT
BEGIN:VEVENT
DTSTART;TZID=Europe/London:20210815T213000
DTEND;TZID=Europe/London:20210815T223000
DTSTAMP:20260421T111638
CREATED:20210806T113050Z
LAST-MODIFIED:20210806T113050Z
UID:20596-1629063000-1629066600@nueva.candelaria.es
SUMMARY:Retransmisión televisiva de la Ofrenda a la Patrona de Canarias
DESCRIPTION:21.30 horas.\nEmisión por Televisión Canaria.\nMúsicas y tradiciones de las Islas en honor a la Virgen.
URL:https://nueva.candelaria.es/event/retransmision-televisiva-de-la-ofrenda-a-la-patrona-de-canarias/
CATEGORIES:Cultura
ATTACH;FMTTYPE=image/jpeg:https://nueva.candelaria.es/wp-content/uploads/Agenda-Agosto-2021-Pantallas-19.jpg
END:VEVENT
BEGIN:VEVENT
DTSTART;TZID=Europe/London:20210815T114500
DTEND;TZID=Europe/London:20210815T133000
DTSTAMP:20260421T111638
CREATED:20210806T112822Z
LAST-MODIFIED:20210806T113920Z
UID:20594-1629027900-1629034200@nueva.candelaria.es
SUMMARY:Retransmisión de los actos principales
DESCRIPTION:11.45 horas.\nEmisión por Televisión Canaria\,\nLa 2 de TVE en Canarias\,\nCope Canarias y Candelaria Radio.\nRecepción de la representante de\nsu Majestad el Rey de España y solemne\nconcelebración de la eucaristía.
URL:https://nueva.candelaria.es/event/retransmision-de-los-actos-principales/
CATEGORIES:Alcaldía,Fiestas
ATTACH;FMTTYPE=image/jpeg:https://nueva.candelaria.es/wp-content/uploads/Agenda-Agosto-2021-Pantallas-18.jpg
END:VEVENT
BEGIN:VEVENT
DTSTART;TZID=Europe/London:20210814T213000
DTEND;TZID=Europe/London:20210814T223000
DTSTAMP:20260421T111638
CREATED:20210806T112620Z
LAST-MODIFIED:20210806T112620Z
UID:20592-1628976600-1628980200@nueva.candelaria.es
SUMMARY:Retransmisión 'La piel de la fe' y la luchada
DESCRIPTION:RETRANSMISIÓN DEL PROGRAMA DE TELEVISIÓN «LA PIEL DE LA FE».\nDOCUMENTAL DE LA CEREMONIA GUANCHE Y LA LUCHADA \n21.30 horas. Televisión Canaria.
URL:https://nueva.candelaria.es/event/retransmision-la-piel-de-la-fe-y-la-luchada/
CATEGORIES:Cultura,Deportes
ATTACH;FMTTYPE=image/jpeg:https://nueva.candelaria.es/wp-content/uploads/Agenda-Agosto-2021-Pantallas-17.jpg
END:VEVENT
BEGIN:VEVENT
DTSTART;TZID=Europe/London:20210813T220000
DTEND;TZID=Europe/London:20210813T230000
DTSTAMP:20260421T111638
CREATED:20210806T112503Z
LAST-MODIFIED:20210806T112503Z
UID:20590-1628892000-1628895600@nueva.candelaria.es
SUMMARY:Retransmisión del pregón de las fiestas
DESCRIPTION:Emisión por Televisión Canaria y Candelaria Radio.\nIlustración musical a cargo de FABIOLA SOCAS Y AYATIMAS BRITO\, con la colaboración especial de AYLA RODRÍGUEZ y ZAIDA ALMEIDA.
URL:https://nueva.candelaria.es/event/retransmision-del-pregon-de-las-fiestas/
CATEGORIES:Cultura
ATTACH;FMTTYPE=image/jpeg:https://nueva.candelaria.es/wp-content/uploads/Agenda-Agosto-2021-Pantallas-16.jpg
END:VEVENT
BEGIN:VEVENT
DTSTART;TZID=Europe/London:20210813T070000
DTEND;TZID=Europe/London:20210813T150000
DTSTAMP:20260421T111638
CREATED:20210806T112202Z
LAST-MODIFIED:20210806T112202Z
UID:20588-1628838000-1628866800@nueva.candelaria.es
SUMMARY:La radio desde Candelaria\, programación especial
DESCRIPTION:“LA RADIO DESDE CANDELARIA”. PROGRAMACIÓN ESPECIAL CON ALGUNAS DE LAS EMISORAS MÁS IMPORTANTES DE CANARIAS \nEspacio Cultural Ayuntamiento Viejo.\nCope Canarias\, Onda Tenerife\, Radio Cadena\nCanarias\, Radio Club Tenerife\, Canarias Radio\, Radio\nNacional de España\, Radio Marca y Candelaria Radio.
URL:https://nueva.candelaria.es/event/la-radio-desde-candelaria-programacion-especial/
CATEGORIES:Alcaldía
ATTACH;FMTTYPE=image/jpeg:https://nueva.candelaria.es/wp-content/uploads/Agenda-Agosto-2021-Pantallas-15.jpg
END:VEVENT
BEGIN:VEVENT
DTSTART;TZID=Europe/London:20210812T120000
DTEND;TZID=Europe/London:20210812T200000
DTSTAMP:20260421T111638
CREATED:20210806T112005Z
LAST-MODIFIED:20210806T112005Z
UID:20584-1628769600-1628798400@nueva.candelaria.es
SUMMARY:Temporada de exposiciones
DESCRIPTION:12.00 horas. Espacio Cultural Ayuntamiento Viejo. \n“De pies a cabeza”. Zapatería y sombrerería en la vestimenta\ntradicional canaria. MAIT. Cabildo Insular de Tenerife. \n“Trajeando muñec@s”. Coleccionismo de muñecos ataviados con\ntrajes tradicionales. \n“Hechos de creatividad”. Un viaje desde la sombrerería a la\nmueblería de diseño. By Loleiro Hats & Headpieces y Sigfrido Estilo. \nLunes a viernes\, 10.00 a 14.00 y 17.00 a 20.00 h.\nHasta el 31 de agosto.\nAbierta también 14 y 15 de agosto
URL:https://nueva.candelaria.es/event/temporada-de-exposiciones-2/
CATEGORIES:Cultura
ATTACH;FMTTYPE=image/jpeg:https://nueva.candelaria.es/wp-content/uploads/Agenda-Agosto-2021-Pantallas-13.jpg
END:VEVENT
BEGIN:VEVENT
DTSTART;TZID=Europe/London:20210808T120000
DTEND;TZID=Europe/London:20210808T130000
DTSTAMP:20260421T111638
CREATED:20210806T111740Z
LAST-MODIFIED:20210806T111740Z
UID:20582-1628424000-1628427600@nueva.candelaria.es
SUMMARY:Celebración de la Santísima Trinidad de Igueste
DESCRIPTION:Fiestas. \nSolemne función religiosa en la Parroquia.
URL:https://nueva.candelaria.es/event/celebracion-de-la-santisima-trinidad-de-igueste/
CATEGORIES:Fiestas
ATTACH;FMTTYPE=image/jpeg:https://nueva.candelaria.es/wp-content/uploads/Agenda-Agosto-2021-Pantallas-11.jpg
END:VEVENT
BEGIN:VEVENT
DTSTART;TZID=Europe/London:20210807T093000
DTEND;TZID=Europe/London:20210807T120000
DTSTAMP:20260421T111638
CREATED:20210806T111621Z
LAST-MODIFIED:20210806T111621Z
UID:20555-1628328600-1628337600@nueva.candelaria.es
SUMMARY:
DESCRIPTION:Zona casco de Candelaria.\nRuta guiada a pie para familias con niños por el casco histórico\, con parada en los hitos más representativos del patrimonio.\nInscripción: oit@candelaria.es u Oficina de Información Turística.
URL:https://nueva.candelaria.es/event/20555/
CATEGORIES:Turismo
ATTACH;FMTTYPE=image/jpeg:https://nueva.candelaria.es/wp-content/uploads/Agenda-Agosto-2021-Pantallas-10.jpg
END:VEVENT
BEGIN:VEVENT
DTSTART;TZID=Europe/London:20210806T080000
DTEND;TZID=Europe/London:20210806T170000
DTSTAMP:20260421T111638
CREATED:20210806T113429Z
LAST-MODIFIED:20210806T113429Z
UID:20602-1628236800-1628269200@nueva.candelaria.es
SUMMARY:Ginkana Juvenil
DESCRIPTION:Espacio Cultural Cine Viejo.\nSupera pruebas mientras haces equipo.\nInformación: zonajoven@candelaria.es
URL:https://nueva.candelaria.es/event/ginkana-juvenil/
CATEGORIES:Juventud
ATTACH;FMTTYPE=image/jpeg:https://nueva.candelaria.es/wp-content/uploads/Agenda-Agosto-2021-Pantallas-22.jpg
END:VEVENT
BEGIN:VEVENT
DTSTART;TZID=Europe/London:20210806T080000
DTEND;TZID=Europe/London:20210806T170000
DTSTAMP:20260421T111638
CREATED:20210806T112048Z
LAST-MODIFIED:20210806T112048Z
UID:20586-1628236800-1628269200@nueva.candelaria.es
SUMMARY:CIJ ON TOUR
DESCRIPTION:Plaza del Centro Cultural de La Villa.\nPunto de información\njuvenil itinerante\, zona chilout\, talleres…\nOrganiza: Centro de Información Juvenil\ndel Cabildo de Tenerife
URL:https://nueva.candelaria.es/event/cij-on-tour/
CATEGORIES:Juventud
ATTACH;FMTTYPE=image/jpeg:https://nueva.candelaria.es/wp-content/uploads/Agenda-Agosto-2021-Pantallas-14.jpg
END:VEVENT
BEGIN:VEVENT
DTSTART;TZID=Europe/London:20210731T180000
DTEND;TZID=Europe/London:20210731T190000
DTSTAMP:20260421T111638
CREATED:20210705T142617Z
LAST-MODIFIED:20210705T142631Z
UID:20248-1627754400-1627758000@nueva.candelaria.es
SUMMARY:Concierto coral 'Voces para la esperanza'
DESCRIPTION:Basílica de Candelaria.\nCoordina: CORAL VILLA DE CANDELARIA.
URL:https://nueva.candelaria.es/event/concierto-coral-voces-para-la-esperanza-2/
CATEGORIES:Cultura
ATTACH;FMTTYPE=image/jpeg:https://nueva.candelaria.es/wp-content/uploads/Agenda-Julio-2021-Pantallas-56-1.jpg
END:VEVENT
BEGIN:VEVENT
DTSTART;TZID=Europe/London:20210731T071500
DTEND;TZID=Europe/London:20210731T140000
DTSTAMP:20260421T111638
CREATED:20210705T140604Z
LAST-MODIFIED:20210705T140604Z
UID:20245-1627715700-1627740000@nueva.candelaria.es
SUMMARY:Ruta Cruz del Carmen- Los batenes
DESCRIPTION:Itinerario: Parque Rural de Anaga.\nDificultad: media/alta (en función del nivel del senderista).
URL:https://nueva.candelaria.es/event/ruta-cruz-del-carmen-los-batenes/
CATEGORIES:Medio ambiente natural
ATTACH;FMTTYPE=image/jpeg:https://nueva.candelaria.es/wp-content/uploads/Agenda-Julio-2021-Pantallas-54-1.jpg
END:VEVENT
BEGIN:VEVENT
DTSTART;TZID=Europe/London:20210730T180000
DTEND;TZID=Europe/London:20210730T193000
DTSTAMP:20260421T111638
CREATED:20210705T140215Z
LAST-MODIFIED:20210728T091640Z
UID:20242-1627668000-1627673400@nueva.candelaria.es
SUMMARY:APLAZADO Tropical cooktail masterclass
DESCRIPTION:Espacio Rural La Caseta (Peón caminero).\nElaboración de diferentes cócteles con fruta tropical\nde temporada\, cítricos y hierbas aromáticas\ncultivadas en el municipio.\nInscripciones en www.caminocandelaria.com. + 18 años\nColabora: Gobierno de Canarias
URL:https://nueva.candelaria.es/event/tropical-cooktail-masterclass/
CATEGORIES:Turismo
ATTACH;FMTTYPE=image/jpeg:https://nueva.candelaria.es/wp-content/uploads/Agenda-Julio-2021-Pantallas-53.jpg
END:VEVENT
BEGIN:VEVENT
DTSTART;TZID=Europe/London:20210726T190000
DTEND;TZID=Europe/London:20210726T200000
DTSTAMP:20260421T111638
CREATED:20210705T140123Z
LAST-MODIFIED:20210723T084200Z
UID:20240-1627326000-1627329600@nueva.candelaria.es
SUMMARY:APLAZADO Día del abuelo
DESCRIPTION:Espacio Cultural Cine Viejo.\nColabora: Mesa Comunitaria Candelaria Casco-Playa La Viuda.
URL:https://nueva.candelaria.es/event/dia-del-abuelo/
CATEGORIES:Alcaldía
ATTACH;FMTTYPE=image/jpeg:https://nueva.candelaria.es/wp-content/uploads/Agenda-Julio-2021-Pantallas-51-1.jpg
END:VEVENT
BEGIN:VEVENT
DTSTART;TZID=Europe/London:20210725T190000
DTEND;TZID=Europe/London:20210725T200000
DTSTAMP:20260421T111638
CREATED:20210705T140017Z
LAST-MODIFIED:20210705T140017Z
UID:20235-1627239600-1627243200@nueva.candelaria.es
SUMMARY:Musical Infantil 'La magia de Oz'
DESCRIPTION:Compañía CAMINO VIEJO PRODUCCIONES.\nReservar plaza gratuita en tickety.es a partir del 5 de julio En caso de no poder asistir\, comunicarlo a cultura@candelaria.es para eliminar\nlos datos personales. Se deberá entrar 30 minutos antes del evento.\nColabora: Programa Tenerife Artes Escénicas.
URL:https://nueva.candelaria.es/event/musical-infantil-la-magia-de-oz/
CATEGORIES:Cultura
ATTACH;FMTTYPE=image/jpeg:https://nueva.candelaria.es/wp-content/uploads/Agenda-Julio-2021-Pantallas-49.jpg
END:VEVENT
BEGIN:VEVENT
DTSTART;TZID=Europe/London:20210725T084500
DTEND;TZID=Europe/London:20210725T110000
DTSTAMP:20260421T111638
CREATED:20210705T135832Z
LAST-MODIFIED:20210705T135832Z
UID:20232-1627202700-1627210800@nueva.candelaria.es
SUMMARY:Ruta 'de la maresía'
DESCRIPTION:8.45 horas. Plaza de la Patrona de Canarias.\nDescubre el sendero Samarines conociendo\noficios\, tradiciones\, historias\, desarrollo\nagroalimentario y relación entre los pobladores y el mar.\nDificultad: baja. +12 años.\nInscripción: www.caminocandelaria.com.\nColabora: Gobierno de Canarias.
URL:https://nueva.candelaria.es/event/ruta-de-la-maresia/
CATEGORIES:Turismo
ATTACH;FMTTYPE=image/jpeg:https://nueva.candelaria.es/wp-content/uploads/Agenda-Julio-2021-Pantallas-48-1.jpg
END:VEVENT
BEGIN:VEVENT
DTSTART;TZID=Europe/London:20210724T203000
DTEND;TZID=Europe/London:20210724T213000
DTSTAMP:20260421T111638
CREATED:20210705T135718Z
LAST-MODIFIED:20210705T135718Z
UID:20229-1627158600-1627162200@nueva.candelaria.es
SUMMARY:Burka Teatro: Hipótesis sobre el Edén
DESCRIPTION:21.30 h. Plaza de Santa Ana.\nBURKA TEATRO. HIPÓTESIS SOBRE EL EDÉN.\nComedia al aire libre\, que mezcla patrimonio\, teatro\, música y danza.\nReservar plaza gratuita en tickety.es a partir del 5 de julio. En caso de no poder asistir\, comunicarlo a cultura@candelaria.es para eliminar\nlos datos personales. Se deberá entrar 30 minutos antes del evento.\nColabora: Programa Tenerife Artes Escénicas.
URL:https://nueva.candelaria.es/event/burka-teatro-hipotesis-sobre-el-eden/
CATEGORIES:Cultura
ATTACH;FMTTYPE=image/jpeg:https://nueva.candelaria.es/wp-content/uploads/Agenda-Julio-2021-Pantallas-47.jpg
END:VEVENT
BEGIN:VEVENT
DTSTART;TZID=Europe/London:20210724T100000
DTEND;TZID=Europe/London:20210724T110000
DTSTAMP:20260421T111638
CREATED:20210705T135547Z
LAST-MODIFIED:20210705T135547Z
UID:20226-1627120800-1627124400@nueva.candelaria.es
SUMMARY:Among us en la vida real para niños (juego dinámico estratégico)
DESCRIPTION:Zona Joven Punta Larga.\n7 a 13 años.\nInscripción: zonajoven@candelaria.es
URL:https://nueva.candelaria.es/event/among-us-en-la-vida-real-para-ninos-juego-dinamico-estrategico/
CATEGORIES:Juventud
ATTACH;FMTTYPE=image/jpeg:https://nueva.candelaria.es/wp-content/uploads/Agenda-Julio-2021-Pantallas-46.jpg
END:VEVENT
BEGIN:VEVENT
DTSTART;TZID=Europe/London:20210723T213000
DTEND;TZID=Europe/London:20210723T223000
DTSTAMP:20260421T111638
CREATED:20210705T135433Z
LAST-MODIFIED:20210705T135433Z
UID:20224-1627075800-1627079400@nueva.candelaria.es
SUMMARY:Los Salvapantallas. 20 años de carrera
DESCRIPTION:21.30 h. Plaza de Santa Ana.\nLOS SALVAPANTALLAS. 20 AÑOS DE CARRERA.\nReservar plaza gratuita en tickety.es a partir del 5 de julio. En caso de no poder asistir\, comunicarlo a cultura@candelaria.es para eliminar los datos personales. Se deberá entrar 30 minutos antes del evento.\nColabora: Programa Tenerife Artes Escénicas.
URL:https://nueva.candelaria.es/event/los-salvapantallas-20-anos-de-carrera/
CATEGORIES:Cultura
ATTACH;FMTTYPE=image/jpeg:https://nueva.candelaria.es/wp-content/uploads/Agenda-Julio-2021-Pantallas-45.jpg
END:VEVENT
BEGIN:VEVENT
DTSTART;TZID=Europe/London:20210723T170000
DTEND;TZID=Europe/London:20210723T190000
DTSTAMP:20260421T111638
CREATED:20210705T135311Z
LAST-MODIFIED:20210705T135311Z
UID:20220-1627059600-1627066800@nueva.candelaria.es
SUMMARY:Among us en la vida real para jóvenes (juego dinámico estratégico)
DESCRIPTION:Zona Joven Punta Larga.\n14 a 35 años.\nInscripción: zonajoven@candelaria.es
URL:https://nueva.candelaria.es/event/among-us-en-la-vida-real-para-jovenes-juego-dinamico-estrategico/
CATEGORIES:Juventud
ATTACH;FMTTYPE=image/jpeg:https://nueva.candelaria.es/wp-content/uploads/Agenda-Julio-2021-Pantallas-44-2.jpg
END:VEVENT
BEGIN:VEVENT
DTSTART;TZID=Europe/London:20210722T180000
DTEND;TZID=Europe/London:20210722T220000
DTSTAMP:20260421T111638
CREATED:20210705T135121Z
LAST-MODIFIED:20210705T135121Z
UID:20217-1626976800-1626991200@nueva.candelaria.es
SUMMARY:Jurassic Experience. Dino explorar para niños.
DESCRIPTION:18.00 a 22.00 h. Espacio Cultural Cine Viejo.\nJURASSIC EXPERIENCE. DINO EXPLORER PARA NIÑOS.\nAdéntrate en la ruta jurásica más misteriosa del verano.\nNo requiere reserva de entrada.\nColabora: Cabildo de Tenerife.
URL:https://nueva.candelaria.es/event/jurassic-experience-dino-explorar-para-ninos/
CATEGORIES:Cultura
ATTACH;FMTTYPE=image/jpeg:https://nueva.candelaria.es/wp-content/uploads/Agenda-Julio-2021-Pantallas-43.jpg
END:VEVENT
BEGIN:VEVENT
DTSTART;TZID=Europe/London:20210722T080000
DTEND;TZID=Europe/London:20210722T170000
DTSTAMP:20260421T111638
CREATED:20210705T134858Z
LAST-MODIFIED:20210709T082304Z
UID:20215-1626940800-1626973200@nueva.candelaria.es
SUMMARY:Ventajas de la ZEC\, marco de incentivos para proyectos empresariales
DESCRIPTION:CTcan. Centro Tecnológico de Candelaria.\nPara empresas\, asesorías y emprendedores.\nInscripción gratuita hasta el lunes 19 en https://docs.google.com/…/1ZTNNyzrmzPXOUePh3Nin6oT…/edit
URL:https://nueva.candelaria.es/event/ventajas-de-la-zec-marco-de-incentivos-para-proyectos-empresariales/
CATEGORIES:Promoción económica y Empleo
ATTACH;FMTTYPE=image/jpeg:https://nueva.candelaria.es/wp-content/uploads/Agenda-Julio-2021-Pantallas-42-1.jpg
END:VEVENT
BEGIN:VEVENT
DTSTART;TZID=Europe/London:20210721T190000
DTEND;TZID=Europe/London:20210721T200000
DTSTAMP:20260421T111638
CREATED:20210705T134749Z
LAST-MODIFIED:20210705T134749Z
UID:20213-1626894000-1626897600@nueva.candelaria.es
SUMMARY:Charla sobre el traje tradicional de la alfarera de Candelaria 'Pieza a pieza'
DESCRIPTION:19.00 h. Zona Joven Punta Larga.\nCHARLA SOBRE EL TRAJE TRADICIONAL DE LA ALFARERA DE CANDELARIA “PIEZA A PIEZA”.\nNo requiere reserva de entrada.
URL:https://nueva.candelaria.es/event/charla-sobre-el-traje-tradicional-de-la-alfarera-de-candelaria-pieza-a-pieza/
CATEGORIES:Cultura
ATTACH;FMTTYPE=image/jpeg:https://nueva.candelaria.es/wp-content/uploads/Agenda-Julio-2021-Pantallas-40-1.jpg
END:VEVENT
BEGIN:VEVENT
DTSTART;TZID=Europe/London:20210720T180000
DTEND;TZID=Europe/London:20210720T190000
DTSTAMP:20260421T111638
CREATED:20210705T134648Z
LAST-MODIFIED:20210705T134648Z
UID:20208-1626804000-1626807600@nueva.candelaria.es
SUMMARY:Entrega de medalla corporativa a los miembros de la primera corporación democrática (1979-1983)
DESCRIPTION:19.00 h. Espacio Cultural Cine Viejo.\nENTREGA DE MEDALLA\nCORPORATIVA A LOS MIEMBROS DE LA PRIMERA CORPORACIÓN DEMOCRÁTICA (1979-1983).\nNo requiere reserva de entrada.
URL:https://nueva.candelaria.es/event/entrega-de-medalla-corporativa-a-los-miembros-de-la-primera-corporacion-democratica-1979-1983/
CATEGORIES:Alcaldía
ATTACH;FMTTYPE=image/jpeg:https://nueva.candelaria.es/wp-content/uploads/Agenda-Julio-2021-Pantallas-39-1.jpg
END:VEVENT
BEGIN:VEVENT
DTSTART;TZID=Europe/London:20210720T150000
DTEND;TZID=Europe/London:20210720T173000
DTSTAMP:20260421T111638
CREATED:20210705T134514Z
LAST-MODIFIED:20210705T134514Z
UID:20206-1626793200-1626802200@nueva.candelaria.es
SUMMARY:Taller 'Crea y edita contenido Instagram para tu negocio'
DESCRIPTION:Centro Tecnológico de Candelaria (CTCan).\nTaller presencial sobre técnicas\, acciones\,\nherramientas y estrategias para conseguir\nun Instagram acorde a tu comercio.\nInscripción: comercio@candelaria.es
URL:https://nueva.candelaria.es/event/taller-crea-y-edita-contenido-instagram-para-tu-negocio/
CATEGORIES:Comercio
END:VEVENT
BEGIN:VEVENT
DTSTART;TZID=Europe/London:20210717T203000
DTEND;TZID=Europe/London:20210717T213000
DTSTAMP:20260421T111638
CREATED:20210705T134319Z
LAST-MODIFIED:20210705T134319Z
UID:20200-1626553800-1626557400@nueva.candelaria.es
SUMMARY:José Manuel Ramos. Ayer\, hoy y siempre...Recordando a Antonio Machín
DESCRIPTION:Reservar plaza gratuita en tickety.es a partir del 5 de julio. En caso de no poder asistir\, comunicarlo a cultura@candelaria.es para eliminar los datos personales. Se deberá entrar 30 minutos antes del evento.\nColabora: Programa Tenerife Artes Escénicas.
URL:https://nueva.candelaria.es/event/jose-manuel-ramos-ayer-hoy-y-siempre-recordando-a-antonio-machin/
CATEGORIES:Cultura
ATTACH;FMTTYPE=image/jpeg:https://nueva.candelaria.es/wp-content/uploads/Agenda-Julio-2021-Pantallas-35.jpg
END:VEVENT
END:VCALENDAR