BEGIN:VCALENDAR
VERSION:2.0
PRODID:-//Candelaria - ECPv6.15.6//NONSGML v1.0//EN
CALSCALE:GREGORIAN
METHOD:PUBLISH
X-ORIGINAL-URL:https://nueva.candelaria.es
X-WR-CALDESC:Eventos para Candelaria
REFRESH-INTERVAL;VALUE=DURATION:PT1H
X-Robots-Tag:noindex
X-PUBLISHED-TTL:PT1H
BEGIN:VTIMEZONE
TZID:Europe/London
BEGIN:DAYLIGHT
TZOFFSETFROM:+0000
TZOFFSETTO:+0100
TZNAME:BST
DTSTART:20200329T010000
END:DAYLIGHT
BEGIN:STANDARD
TZOFFSETFROM:+0100
TZOFFSETTO:+0000
TZNAME:GMT
DTSTART:20201025T010000
END:STANDARD
BEGIN:DAYLIGHT
TZOFFSETFROM:+0000
TZOFFSETTO:+0100
TZNAME:BST
DTSTART:20210328T010000
END:DAYLIGHT
BEGIN:STANDARD
TZOFFSETFROM:+0100
TZOFFSETTO:+0000
TZNAME:GMT
DTSTART:20211031T010000
END:STANDARD
BEGIN:DAYLIGHT
TZOFFSETFROM:+0000
TZOFFSETTO:+0100
TZNAME:BST
DTSTART:20220327T010000
END:DAYLIGHT
BEGIN:STANDARD
TZOFFSETFROM:+0100
TZOFFSETTO:+0000
TZNAME:GMT
DTSTART:20221030T010000
END:STANDARD
END:VTIMEZONE
BEGIN:VEVENT
DTSTART;TZID=Europe/London:20210724T203000
DTEND;TZID=Europe/London:20210724T213000
DTSTAMP:20260421T141850
CREATED:20210705T135718Z
LAST-MODIFIED:20210705T135718Z
UID:20229-1627158600-1627162200@nueva.candelaria.es
SUMMARY:Burka Teatro: Hipótesis sobre el Edén
DESCRIPTION:21.30 h. Plaza de Santa Ana.\nBURKA TEATRO. HIPÓTESIS SOBRE EL EDÉN.\nComedia al aire libre\, que mezcla patrimonio\, teatro\, música y danza.\nReservar plaza gratuita en tickety.es a partir del 5 de julio. En caso de no poder asistir\, comunicarlo a cultura@candelaria.es para eliminar\nlos datos personales. Se deberá entrar 30 minutos antes del evento.\nColabora: Programa Tenerife Artes Escénicas.
URL:https://nueva.candelaria.es/event/burka-teatro-hipotesis-sobre-el-eden/
CATEGORIES:Cultura
ATTACH;FMTTYPE=image/jpeg:https://nueva.candelaria.es/wp-content/uploads/Agenda-Julio-2021-Pantallas-47.jpg
END:VEVENT
BEGIN:VEVENT
DTSTART;TZID=Europe/London:20210724T100000
DTEND;TZID=Europe/London:20210724T110000
DTSTAMP:20260421T141850
CREATED:20210705T135547Z
LAST-MODIFIED:20210705T135547Z
UID:20226-1627120800-1627124400@nueva.candelaria.es
SUMMARY:Among us en la vida real para niños (juego dinámico estratégico)
DESCRIPTION:Zona Joven Punta Larga.\n7 a 13 años.\nInscripción: zonajoven@candelaria.es
URL:https://nueva.candelaria.es/event/among-us-en-la-vida-real-para-ninos-juego-dinamico-estrategico/
CATEGORIES:Juventud
ATTACH;FMTTYPE=image/jpeg:https://nueva.candelaria.es/wp-content/uploads/Agenda-Julio-2021-Pantallas-46.jpg
END:VEVENT
BEGIN:VEVENT
DTSTART;TZID=Europe/London:20210723T213000
DTEND;TZID=Europe/London:20210723T223000
DTSTAMP:20260421T141850
CREATED:20210705T135433Z
LAST-MODIFIED:20210705T135433Z
UID:20224-1627075800-1627079400@nueva.candelaria.es
SUMMARY:Los Salvapantallas. 20 años de carrera
DESCRIPTION:21.30 h. Plaza de Santa Ana.\nLOS SALVAPANTALLAS. 20 AÑOS DE CARRERA.\nReservar plaza gratuita en tickety.es a partir del 5 de julio. En caso de no poder asistir\, comunicarlo a cultura@candelaria.es para eliminar los datos personales. Se deberá entrar 30 minutos antes del evento.\nColabora: Programa Tenerife Artes Escénicas.
URL:https://nueva.candelaria.es/event/los-salvapantallas-20-anos-de-carrera/
CATEGORIES:Cultura
ATTACH;FMTTYPE=image/jpeg:https://nueva.candelaria.es/wp-content/uploads/Agenda-Julio-2021-Pantallas-45.jpg
END:VEVENT
BEGIN:VEVENT
DTSTART;TZID=Europe/London:20210723T170000
DTEND;TZID=Europe/London:20210723T190000
DTSTAMP:20260421T141850
CREATED:20210705T135311Z
LAST-MODIFIED:20210705T135311Z
UID:20220-1627059600-1627066800@nueva.candelaria.es
SUMMARY:Among us en la vida real para jóvenes (juego dinámico estratégico)
DESCRIPTION:Zona Joven Punta Larga.\n14 a 35 años.\nInscripción: zonajoven@candelaria.es
URL:https://nueva.candelaria.es/event/among-us-en-la-vida-real-para-jovenes-juego-dinamico-estrategico/
CATEGORIES:Juventud
ATTACH;FMTTYPE=image/jpeg:https://nueva.candelaria.es/wp-content/uploads/Agenda-Julio-2021-Pantallas-44-2.jpg
END:VEVENT
BEGIN:VEVENT
DTSTART;TZID=Europe/London:20210722T180000
DTEND;TZID=Europe/London:20210722T220000
DTSTAMP:20260421T141850
CREATED:20210705T135121Z
LAST-MODIFIED:20210705T135121Z
UID:20217-1626976800-1626991200@nueva.candelaria.es
SUMMARY:Jurassic Experience. Dino explorar para niños.
DESCRIPTION:18.00 a 22.00 h. Espacio Cultural Cine Viejo.\nJURASSIC EXPERIENCE. DINO EXPLORER PARA NIÑOS.\nAdéntrate en la ruta jurásica más misteriosa del verano.\nNo requiere reserva de entrada.\nColabora: Cabildo de Tenerife.
URL:https://nueva.candelaria.es/event/jurassic-experience-dino-explorar-para-ninos/
CATEGORIES:Cultura
ATTACH;FMTTYPE=image/jpeg:https://nueva.candelaria.es/wp-content/uploads/Agenda-Julio-2021-Pantallas-43.jpg
END:VEVENT
BEGIN:VEVENT
DTSTART;TZID=Europe/London:20210722T080000
DTEND;TZID=Europe/London:20210722T170000
DTSTAMP:20260421T141850
CREATED:20210705T134858Z
LAST-MODIFIED:20210709T082304Z
UID:20215-1626940800-1626973200@nueva.candelaria.es
SUMMARY:Ventajas de la ZEC\, marco de incentivos para proyectos empresariales
DESCRIPTION:CTcan. Centro Tecnológico de Candelaria.\nPara empresas\, asesorías y emprendedores.\nInscripción gratuita hasta el lunes 19 en https://docs.google.com/…/1ZTNNyzrmzPXOUePh3Nin6oT…/edit
URL:https://nueva.candelaria.es/event/ventajas-de-la-zec-marco-de-incentivos-para-proyectos-empresariales/
CATEGORIES:Promoción económica y Empleo
ATTACH;FMTTYPE=image/jpeg:https://nueva.candelaria.es/wp-content/uploads/Agenda-Julio-2021-Pantallas-42-1.jpg
END:VEVENT
BEGIN:VEVENT
DTSTART;TZID=Europe/London:20210721T190000
DTEND;TZID=Europe/London:20210721T200000
DTSTAMP:20260421T141850
CREATED:20210705T134749Z
LAST-MODIFIED:20210705T134749Z
UID:20213-1626894000-1626897600@nueva.candelaria.es
SUMMARY:Charla sobre el traje tradicional de la alfarera de Candelaria 'Pieza a pieza'
DESCRIPTION:19.00 h. Zona Joven Punta Larga.\nCHARLA SOBRE EL TRAJE TRADICIONAL DE LA ALFARERA DE CANDELARIA “PIEZA A PIEZA”.\nNo requiere reserva de entrada.
URL:https://nueva.candelaria.es/event/charla-sobre-el-traje-tradicional-de-la-alfarera-de-candelaria-pieza-a-pieza/
CATEGORIES:Cultura
ATTACH;FMTTYPE=image/jpeg:https://nueva.candelaria.es/wp-content/uploads/Agenda-Julio-2021-Pantallas-40-1.jpg
END:VEVENT
BEGIN:VEVENT
DTSTART;TZID=Europe/London:20210720T180000
DTEND;TZID=Europe/London:20210720T190000
DTSTAMP:20260421T141850
CREATED:20210705T134648Z
LAST-MODIFIED:20210705T134648Z
UID:20208-1626804000-1626807600@nueva.candelaria.es
SUMMARY:Entrega de medalla corporativa a los miembros de la primera corporación democrática (1979-1983)
DESCRIPTION:19.00 h. Espacio Cultural Cine Viejo.\nENTREGA DE MEDALLA\nCORPORATIVA A LOS MIEMBROS DE LA PRIMERA CORPORACIÓN DEMOCRÁTICA (1979-1983).\nNo requiere reserva de entrada.
URL:https://nueva.candelaria.es/event/entrega-de-medalla-corporativa-a-los-miembros-de-la-primera-corporacion-democratica-1979-1983/
CATEGORIES:Alcaldía
ATTACH;FMTTYPE=image/jpeg:https://nueva.candelaria.es/wp-content/uploads/Agenda-Julio-2021-Pantallas-39-1.jpg
END:VEVENT
BEGIN:VEVENT
DTSTART;TZID=Europe/London:20210720T150000
DTEND;TZID=Europe/London:20210720T173000
DTSTAMP:20260421T141850
CREATED:20210705T134514Z
LAST-MODIFIED:20210705T134514Z
UID:20206-1626793200-1626802200@nueva.candelaria.es
SUMMARY:Taller 'Crea y edita contenido Instagram para tu negocio'
DESCRIPTION:Centro Tecnológico de Candelaria (CTCan).\nTaller presencial sobre técnicas\, acciones\,\nherramientas y estrategias para conseguir\nun Instagram acorde a tu comercio.\nInscripción: comercio@candelaria.es
URL:https://nueva.candelaria.es/event/taller-crea-y-edita-contenido-instagram-para-tu-negocio/
CATEGORIES:Comercio
END:VEVENT
BEGIN:VEVENT
DTSTART;TZID=Europe/London:20210717T203000
DTEND;TZID=Europe/London:20210717T213000
DTSTAMP:20260421T141850
CREATED:20210705T134319Z
LAST-MODIFIED:20210705T134319Z
UID:20200-1626553800-1626557400@nueva.candelaria.es
SUMMARY:José Manuel Ramos. Ayer\, hoy y siempre...Recordando a Antonio Machín
DESCRIPTION:Reservar plaza gratuita en tickety.es a partir del 5 de julio. En caso de no poder asistir\, comunicarlo a cultura@candelaria.es para eliminar los datos personales. Se deberá entrar 30 minutos antes del evento.\nColabora: Programa Tenerife Artes Escénicas.
URL:https://nueva.candelaria.es/event/jose-manuel-ramos-ayer-hoy-y-siempre-recordando-a-antonio-machin/
CATEGORIES:Cultura
ATTACH;FMTTYPE=image/jpeg:https://nueva.candelaria.es/wp-content/uploads/Agenda-Julio-2021-Pantallas-35.jpg
END:VEVENT
BEGIN:VEVENT
DTSTART;TZID=Europe/London:20210716T203000
DTEND;TZID=Europe/London:20210716T213000
DTSTAMP:20260421T141850
CREATED:20210705T134104Z
LAST-MODIFIED:20210705T134104Z
UID:20197-1626467400-1626471000@nueva.candelaria.es
SUMMARY:Abubukaka. Uranio empobrecido.
DESCRIPTION:21.30 h. Plaza de Santa Ana.\nABUBUKAKA. URANIO EMPOBRECIDO.\nReservar plaza gratuita en tickety.es a partir del 5 de julio. En caso de no poder asistir\, comunicarlo a\ncultura@candelaria.es para eliminar los datos personales.\nSe deberá entrar 30 minutos antes del evento.\nColabora: Programa Tenerife Artes Escénicas.
URL:https://nueva.candelaria.es/event/abubukaka-uranio-empobrecido/
CATEGORIES:Cultura
ATTACH;FMTTYPE=image/jpeg:https://nueva.candelaria.es/wp-content/uploads/Agenda-Julio-2021-Pantallas-34.jpg
END:VEVENT
BEGIN:VEVENT
DTSTART;TZID=Europe/London:20210716T180000
DTEND;TZID=Europe/London:20210716T200000
DTSTAMP:20260421T141850
CREATED:20210705T133945Z
LAST-MODIFIED:20210715T132940Z
UID:20195-1626458400-1626465600@nueva.candelaria.es
SUMMARY:APLAZADO Ruta teatralizada para familias por la zona del muelle
DESCRIPTION:18.00\, 19.00 y 20.00 h. Partiendo de la Plaza de Los Pescadores.\nRUTA TEATRALIZADA PARA FAMILIAS POR LA ZONA DEL MUELLE.\nCompañía ZÁLATA TEATRO.\nInscripción previa en el 922 500 530\, de 9.00 a 14.00 y 16.00 a 20.00 h. Prioridad empadronados.\nColabora: Cabildo de Tenerife.
URL:https://nueva.candelaria.es/event/ruta-teatralizada-para-familias-por-la-zona-del-muelle/
CATEGORIES:Cultura
ATTACH;FMTTYPE=image/jpeg:https://nueva.candelaria.es/wp-content/uploads/Agenda-Julio-2021-Pantallas-32.jpg
END:VEVENT
BEGIN:VEVENT
DTSTART;TZID=Europe/London:20210715T193000
DTEND;TZID=Europe/London:20210715T203000
DTSTAMP:20260421T141850
CREATED:20210705T133725Z
LAST-MODIFIED:20210705T133725Z
UID:20175-1626377400-1626381000@nueva.candelaria.es
SUMMARY:Tertulia 'Candelaria\, cuna de grandes orquestas'
DESCRIPTION:20.00 h. Espacio Cultural Cine Viejo.\nColoquio con antiguos integrantes de orquestas de ayer y hoy del municipio.\nNo requiere reserva de entrada.
URL:https://nueva.candelaria.es/event/tertulia-candelaria-cuna-de-grandes-orquestas/
CATEGORIES:Cultura
ATTACH;FMTTYPE=image/jpeg:https://nueva.candelaria.es/wp-content/uploads/Agenda-Julio-2021-Pantallas-31-1.jpg
END:VEVENT
BEGIN:VEVENT
DTSTART;TZID=Europe/London:20210714T200000
DTEND;TZID=Europe/London:20210714T220000
DTSTAMP:20260421T141850
CREATED:20210629T135913Z
LAST-MODIFIED:20210629T135913Z
UID:20107-1626292800-1626300000@nueva.candelaria.es
SUMMARY:Lo+Cool Summer
DESCRIPTION:20.00 h. Espacio Cultural Cine Viejo. \nTendencias verano de los comercios locales.\nReservar plaza gratuita en tickety.es a partir del 5 de julio. En caso de no poder asistir\, comunicarlo\na comercio@candelaria.es para eliminar los datos personales. Se deberá entrar 30 minutos antes del evento.
URL:https://nueva.candelaria.es/event/locool-summer/
CATEGORIES:Comercio
ATTACH;FMTTYPE=image/jpeg:https://nueva.candelaria.es/wp-content/uploads/132591487_4133358943347257_3366387713360901484_n.jpg
END:VEVENT
BEGIN:VEVENT
DTSTART;TZID=Europe/London:20210714T100000
DTEND;TZID=Europe/London:20210717T200000
DTSTAMP:20260421T141850
CREATED:20210705T133830Z
LAST-MODIFIED:20210705T133830Z
UID:20193-1626256800-1626552000@nueva.candelaria.es
SUMMARY:Vidas de mar
DESCRIPTION:Centro Pesquero de Candelaria.\nInauguración: miércoles 14. 18.30.\nHorario de apertura: de jueves 15 al sábado 17.\nDe 10.00 a 12.00 y de 18.00 a 20.00 horas.
URL:https://nueva.candelaria.es/event/vidas-de-mar/
CATEGORIES:Desarrollo rural y pesquero
ATTACH;FMTTYPE=image/jpeg:https://nueva.candelaria.es/wp-content/uploads/Agenda-Julio-2021-Pantallas-29.jpg
END:VEVENT
BEGIN:VEVENT
DTSTART;TZID=Europe/London:20210710T213000
DTEND;TZID=Europe/London:20210710T223000
DTSTAMP:20260421T141850
CREATED:20210629T135322Z
LAST-MODIFIED:20210629T135322Z
UID:20103-1625952600-1625956200@nueva.candelaria.es
SUMMARY:Manuel Estupiñán. 'Viviendo' Tributo a Marc Anthony
DESCRIPTION:Reservar plaza gratuita en tickety.es a partir del 5 de julio. En caso de no poder asistir\,\ncomunicarlo a cultura@candelaria.es para eliminar los datos personales. Se deberá entrar\n30 minutos antes del evento. Colabora: ICDC. Gobierno de Canarias.
URL:https://nueva.candelaria.es/event/manuel-estupinan-viviendo-tributo-a-marc-anthony/
CATEGORIES:Cultura
ATTACH;FMTTYPE=image/png:https://nueva.candelaria.es/wp-content/uploads/q3r.png
END:VEVENT
BEGIN:VEVENT
DTSTART;TZID=Europe/London:20210710T093000
DTEND;TZID=Europe/London:20210710T110000
DTSTAMP:20260421T141850
CREATED:20210629T133532Z
LAST-MODIFIED:20210629T133532Z
UID:20097-1625909400-1625914800@nueva.candelaria.es
SUMMARY:Rutas guiadas para familias con niños por el casco de Candelaria
DESCRIPTION:Inscripción: www.caminocandelaria.com u\nOficina de Información Turística. \nCasco de Candelaria.
URL:https://nueva.candelaria.es/event/rutas-guiadas-para-familias-con-ninos-por-el-casco-de-candelaria/
CATEGORIES:Turismo
ATTACH;FMTTYPE=image/jpeg:https://nueva.candelaria.es/wp-content/uploads/208148669_4692909947392151_7443257855927812059_n.jpg
END:VEVENT
BEGIN:VEVENT
DTSTART;TZID=Europe/London:20210709T213000
DTEND;TZID=Europe/London:20210709T213000
DTSTAMP:20260421T141850
CREATED:20210629T131823Z
LAST-MODIFIED:20210629T132545Z
UID:20093-1625866200-1625866200@nueva.candelaria.es
SUMMARY:Jadel\, toda una vida\, una noche de boleros
DESCRIPTION:JADEL. TODA UNA VIDA. UNA NOCHE DE BOLEROS. JULIO AWAD al piano.\nReservar plaza gratuita en tickety.es a partir del 5 de julio. En caso de no poder asistir\, comunicarlo a cultura@candelaria.es para eliminar los datos personales. Se deberá entrar 30 minutos antes del evento.\nColabora: ICDC. Gobierno de Canarias.
URL:https://nueva.candelaria.es/event/jadel-toda-una-vida-una-noche-de-boleros/
CATEGORIES:Cultura
ATTACH;FMTTYPE=image/png:https://nueva.candelaria.es/wp-content/uploads/qewfd.png
END:VEVENT
BEGIN:VEVENT
DTSTART;TZID=Europe/London:20210707T200000
DTEND;TZID=Europe/London:20210707T210000
DTSTAMP:20260421T141850
CREATED:20210629T131329Z
LAST-MODIFIED:20210629T131405Z
UID:20090-1625688000-1625691600@nueva.candelaria.es
SUMMARY:Acto de apertura de las Celebraciones de Santa Ana y Virgen del Carmen
DESCRIPTION:Reconocimiento colectivo a los vecinos por el mantenimiento de las costumbres festivas.\nVisionado de los vídeos “Reviviendo El Carmen” y “Fiestas de Santa Ana. Esencia candelariera”.\nEspacio Cultural Cine Viejo.
URL:https://nueva.candelaria.es/event/acto-de-apertura-de-las-celebraciones-de-santa-ana-y-virgen-del-carmen/
CATEGORIES:Fiestas
ATTACH;FMTTYPE=image/png:https://nueva.candelaria.es/wp-content/uploads/q3e.png
END:VEVENT
BEGIN:VEVENT
DTSTART;TZID=Europe/London:20210705T080000
DTEND;TZID=Europe/London:20210705T170000
DTSTAMP:20260421T141850
CREATED:20210705T134424Z
LAST-MODIFIED:20210705T134424Z
UID:20203-1625472000-1625504400@nueva.candelaria.es
SUMMARY:Concierto 'Entre tubos' Banda de Tubas de Tenerife
DESCRIPTION:12.00 h. Espacio Cultural Cine Viejo\nReservar plaza gratuita en tickety.es a partir del 5 de julio. En caso de no poder asistir\, comunicarlo a cultura@candelaria.es para eliminar los datos personales. Se deberá entrar 30 minutos antes del evento.
URL:https://nueva.candelaria.es/event/concierto-entre-tubos-banda-de-tubas-de-tenerife/
CATEGORIES:Cultura
ATTACH;FMTTYPE=image/jpeg:https://nueva.candelaria.es/wp-content/uploads/Agenda-Julio-2021-Pantallas-36.jpg
END:VEVENT
BEGIN:VEVENT
DTSTART;TZID=Europe/London:20210703T200000
DTEND;TZID=Europe/London:20210703T210000
DTSTAMP:20260421T141850
CREATED:20210531T093427Z
LAST-MODIFIED:20210531T093544Z
UID:19558-1625342400-1625346000@nueva.candelaria.es
SUMMARY:Espectáculo 'El sonido de la calle'
DESCRIPTION:Recorrido entre el son y la salsa\, dirigido por Julián Hernández. \nInscripción: zonajoven@candelaria.es
URL:https://nueva.candelaria.es/event/espectaculo-el-sonido-de-la-calle/
CATEGORIES:Juventud
END:VEVENT
BEGIN:VEVENT
DTSTART;TZID=Europe/London:20210630T080000
DTEND;TZID=Europe/London:20210630T170000
DTSTAMP:20260421T141850
CREATED:20210601T071004Z
LAST-MODIFIED:20210601T071004Z
UID:19748-1625040000-1625072400@nueva.candelaria.es
SUMMARY:Clausura del curso 20/21 de la UPCAN
DESCRIPTION:Algunas escuelas continuarán hasta el 8 de julio por recuperación de periodo COVID.\n9 a 21 de julio. Espacio Cultural Ayuntamiento Viejo.\nExposición de trabajos de pintura\, calados y fotografía.\n20.00 h. Espacio Cultural Cine Viejo.\nConcierto de la Escuela de Música Moderna. 8 de julio.
URL:https://nueva.candelaria.es/event/clausura-del-curso-20-21-de-la-upcan/
CATEGORIES:Cultura
ATTACH;FMTTYPE=image/jpeg:https://nueva.candelaria.es/wp-content/uploads/Agenda-Junio-2021-Pantallas-64.jpg
END:VEVENT
BEGIN:VEVENT
DTSTART;TZID=Europe/London:20210629T080000
DTEND;TZID=Europe/London:20210629T170000
DTSTAMP:20260421T141850
CREATED:20210629T134909Z
LAST-MODIFIED:20210629T134909Z
UID:20100-1624953600-1624986000@nueva.candelaria.es
SUMMARY:Maratón de divertalleres para niños
DESCRIPTION:Instrumentos tribales “Crea-activo” (6 a 10 años). ALESSANDRO FERRATO.\nTocando batería y guitarra eléctrica. HORACIO MARTEL. Pintura al óleo “Mi gran artista”. ELSA MELIÁN.\nJuegos y aventuras en realidad virtual (4 a 10 años).\nInscripción previa en el 922 500 530\, de 9.00 a 14.00 y 16.00 a 20.00 h.\nColabora: Cabildo de Tenerife
URL:https://nueva.candelaria.es/event/maraton-de-divertalleres-para-ninos/
CATEGORIES:Cultura
ATTACH;FMTTYPE=image/jpeg:https://nueva.candelaria.es/wp-content/uploads/antiguo-ayto02.jpg
END:VEVENT
BEGIN:VEVENT
DTSTART;TZID=Europe/London:20210628T203000
DTEND;TZID=Europe/London:20210628T223000
DTSTAMP:20260421T141850
CREATED:20210601T070627Z
LAST-MODIFIED:20210625T134812Z
UID:19746-1624912200-1624919400@nueva.candelaria.es
SUMMARY:CANCELADO Mechones de San Pedro
DESCRIPTION:Risco de San Roque ( Santa Ana)
URL:https://nueva.candelaria.es/event/mechones-de-san-pedro/
CATEGORIES:Patrimonio Histórico
ATTACH;FMTTYPE=image/jpeg:https://nueva.candelaria.es/wp-content/uploads/Agenda-Junio-2021-Pantallas-63.jpg
END:VEVENT
BEGIN:VEVENT
DTSTART;TZID=Europe/London:20210628T190000
DTEND;TZID=Europe/London:20210628T200000
DTSTAMP:20260421T141850
CREATED:20210601T070404Z
LAST-MODIFIED:20210625T132509Z
UID:19744-1624906800-1624910400@nueva.candelaria.es
SUMMARY:Aplazada Reunión de la mesa de la cultura de Candelaria
DESCRIPTION:Espacio Cultural Cine Viejo.\nReunión entre los colectivos culturales\npara coordinar la gestión\ncultural del municipio.
URL:https://nueva.candelaria.es/event/reunion-de-la-mesa-de-la-cultura-de-candelaria/
CATEGORIES:Cultura
END:VEVENT
BEGIN:VEVENT
DTSTART;TZID=Europe/London:20210628T083000
DTEND;TZID=Europe/London:20210628T140000
DTSTAMP:20260421T141850
CREATED:20210601T070229Z
LAST-MODIFIED:20210601T070229Z
UID:19742-1624869000-1624888800@nueva.candelaria.es
SUMMARY:Inscripciones para la EM Fútbol de Candelaria 21/22
DESCRIPTION:SAC o sede electrónica del Ayuntamiento.\nLa fecha indicada corresponde al período de los\nempadronados de nueva inscripción. Los inscritos\nen la temporada 2020-2021 lo harán desde el 14 de junio\,\nmientras que los no empadronados a partir del 12 de julio.
URL:https://nueva.candelaria.es/event/inscripciones-para-la-em-futbol-de-candelaria-21-22/
CATEGORIES:Deportes
ATTACH;FMTTYPE=image/jpeg:https://nueva.candelaria.es/wp-content/uploads/Agenda-Junio-2021-Pantallas-61.jpg
END:VEVENT
BEGIN:VEVENT
DTSTART;TZID=Europe/London:20210628T070000
DTEND;TZID=Europe/London:20210628T150000
DTSTAMP:20260421T141850
CREATED:20210601T070008Z
LAST-MODIFIED:20210601T070008Z
UID:19735-1624863600-1624892400@nueva.candelaria.es
SUMMARY:Campamento de verano para niños de 3 a 12 años
DESCRIPTION:CEIP Príncipe Felipe.\nEspacio dedicado a la conciliación familiar y\nlaboral durante el verano.\nInscripción: EPELCAN\n(Calle Frailes Dominicos\, 2\, )
URL:https://nueva.candelaria.es/event/campamento-de-verano-para-ninos-de-3-a-12-anos/
CATEGORIES:Educación,EPELCAN
ATTACH;FMTTYPE=image/jpeg:https://nueva.candelaria.es/wp-content/uploads/Agenda-Junio-2021-Pantallas-60.jpg
END:VEVENT
BEGIN:VEVENT
DTSTART;TZID=Europe/London:20210627T180000
DTEND;TZID=Europe/London:20210627T190000
DTSTAMP:20260421T141850
CREATED:20210531T112028Z
LAST-MODIFIED:20210531T112028Z
UID:19703-1624816800-1624820400@nueva.candelaria.es
SUMMARY:Concierto de las agrupaciones folklóricas Igonce y Antón Guanche
DESCRIPTION:Espacio Cultural Cine Viejo.\nReserva tu plaza gratuita en tickety.es.
URL:https://nueva.candelaria.es/event/concierto-de-las-agrupaciones-folkloricas-igonce-y-anton-guanche/
CATEGORIES:Cultura
ATTACH;FMTTYPE=image/jpeg:https://nueva.candelaria.es/wp-content/uploads/Agenda-Junio-2021-Pantallas-59.jpg
END:VEVENT
BEGIN:VEVENT
DTSTART;TZID=Europe/London:20210626T200000
DTEND;TZID=Europe/London:20210626T210000
DTSTAMP:20260421T141850
CREATED:20210531T111832Z
LAST-MODIFIED:20210531T111832Z
UID:19701-1624737600-1624741200@nueva.candelaria.es
SUMMARY:Muestra musical de la Orquesta de Jazz de Canarias
DESCRIPTION:Espacio Cultural Cine Viejo.\nReserva tu plaza gratuita en tickety.es.\nColabora: Gobierno de Canarias y\nAyuntamiento de Candelaria
URL:https://nueva.candelaria.es/event/muestra-musical-de-la-orquesta-de-jazz-de-canarias/
CATEGORIES:Cultura
ATTACH;FMTTYPE=image/jpeg:https://nueva.candelaria.es/wp-content/uploads/Agenda-Junio-2021-Pantallas-58.jpg
END:VEVENT
BEGIN:VEVENT
DTSTART;TZID=Europe/London:20210626T173000
DTEND;TZID=Europe/London:20210626T190000
DTSTAMP:20260421T141850
CREATED:20210531T111657Z
LAST-MODIFIED:20210625T134838Z
UID:19699-1624728600-1624734000@nueva.candelaria.es
SUMMARY:APLAZADA. Ruta teatralizada para familias: historias de Igueste
DESCRIPTION:Salida desde el Espacio Cultural de Igueste.\nInscripción previa en el 922 500 530\, de 9.00 a 14.00 y 16.00 a 20.00 h.\nPrioridad empadronados.\nCompañía ZÁLATTA TEATRO\nColabora: Cabildo de Tenerife.
URL:https://nueva.candelaria.es/event/ruta-teatralizada-para-familias-historias-de-igueste/
CATEGORIES:Cultura
ATTACH;FMTTYPE=image/jpeg:https://nueva.candelaria.es/wp-content/uploads/Agenda-Junio-2021-Pantallas-56.jpg
END:VEVENT
END:VCALENDAR