BEGIN:VCALENDAR
VERSION:2.0
PRODID:-//Candelaria - ECPv6.15.6//NONSGML v1.0//EN
CALSCALE:GREGORIAN
METHOD:PUBLISH
X-WR-CALNAME:Candelaria
X-ORIGINAL-URL:https://nueva.candelaria.es
X-WR-CALDESC:Eventos para Candelaria
REFRESH-INTERVAL;VALUE=DURATION:PT1H
X-Robots-Tag:noindex
X-PUBLISHED-TTL:PT1H
BEGIN:VTIMEZONE
TZID:Europe/London
BEGIN:DAYLIGHT
TZOFFSETFROM:+0000
TZOFFSETTO:+0100
TZNAME:BST
DTSTART:20200329T010000
END:DAYLIGHT
BEGIN:STANDARD
TZOFFSETFROM:+0100
TZOFFSETTO:+0000
TZNAME:GMT
DTSTART:20201025T010000
END:STANDARD
BEGIN:DAYLIGHT
TZOFFSETFROM:+0000
TZOFFSETTO:+0100
TZNAME:BST
DTSTART:20210328T010000
END:DAYLIGHT
BEGIN:STANDARD
TZOFFSETFROM:+0100
TZOFFSETTO:+0000
TZNAME:GMT
DTSTART:20211031T010000
END:STANDARD
BEGIN:DAYLIGHT
TZOFFSETFROM:+0000
TZOFFSETTO:+0100
TZNAME:BST
DTSTART:20220327T010000
END:DAYLIGHT
BEGIN:STANDARD
TZOFFSETFROM:+0100
TZOFFSETTO:+0000
TZNAME:GMT
DTSTART:20221030T010000
END:STANDARD
END:VTIMEZONE
BEGIN:VEVENT
DTSTART;TZID=Europe/London:20210522T173000
DTEND;TZID=Europe/London:20210522T183000
DTSTAMP:20260422T022457
CREATED:20210430T104426Z
LAST-MODIFIED:20210430T104426Z
UID:18932-1621704600-1621708200@nueva.candelaria.es
SUMMARY:Ruta teatralizada para familias: historias de Araya
DESCRIPTION:Salida desde el Espacio Cultural de Araya. \nInscripción previa en el 922 500 530\,\nde 9.00 a 14.00 y 16.00 a 20.00 h.\nPrioridad empadronados.\nCompañía ZÁLATTA TEATRO\nColabora: Cabildo de Tenerife
URL:https://nueva.candelaria.es/event/ruta-teatralizada-para-familias-historias-de-araya/
CATEGORIES:Cultura
END:VEVENT
BEGIN:VEVENT
DTSTART;TZID=Europe/London:20210522T100000
DTEND;TZID=Europe/London:20210522T120000
DTSTAMP:20260422T022457
CREATED:20210430T104302Z
LAST-MODIFIED:20210430T104302Z
UID:18930-1621677600-1621684800@nueva.candelaria.es
SUMMARY:Rutas guiadas de los oficios tradicionales
DESCRIPTION:Las Cuevecitas\, Araya y Malpaís.\nConoce nuestro patrimonio\nagroalimentario a través de los oficios históricos.\nApta para + 8 años sin dificultad de movilidad.\nInscripción: www.caminocandelaria.com
URL:https://nueva.candelaria.es/event/rutas-guiadas-de-los-oficios-tradicionales/
CATEGORIES:Cultura
ATTACH;FMTTYPE=image/jpeg:https://nueva.candelaria.es/wp-content/uploads/Agenda-Mayo-2021-Pantallas-35.jpg
END:VEVENT
BEGIN:VEVENT
DTSTART;TZID=Europe/London:20210521T163000
DTEND;TZID=Europe/London:20210521T173000
DTSTAMP:20260422T022457
CREATED:20210430T103816Z
LAST-MODIFIED:20210430T103816Z
UID:18926-1621614600-1621618200@nueva.candelaria.es
SUMMARY:Vermicompostaje\, compost y abonos naturales
DESCRIPTION:16.30 (viernes)\n9.00 (Sábado)\nCTcan. Centro Tecnológico de Candelaria.\nMás info y reserva de plazas en: desarrollorural@candelaria.es
URL:https://nueva.candelaria.es/event/vermicompostaje-compost-y-abonos-naturales/
CATEGORIES:Desarrollo rural y pesquero
ATTACH;FMTTYPE=image/jpeg:https://nueva.candelaria.es/wp-content/uploads/Agenda-Mayo-2021-Pantallas-33.jpg
END:VEVENT
BEGIN:VEVENT
DTSTART;TZID=Europe/London:20210521T080000
DTEND;TZID=Europe/London:20210521T170000
DTSTAMP:20260422T022457
CREATED:20210430T104134Z
LAST-MODIFIED:20210430T104151Z
UID:18928-1621584000-1621616400@nueva.candelaria.es
SUMMARY:Semana temática de exposiciones artesanales y proyecciones de vídeo sobre oficios tradicionales
DESCRIPTION:Zona Joven Punta Larga.\nViernes 21: Rosetas.\nLunes 24: Latonería.\nJueves 27: Luthier\n(instrumentos musicales).\nViernes 28: Centros alfareros de Tenerife.\nColabora: Cabildo de Tenerife
URL:https://nueva.candelaria.es/event/semana-tematica-de-exposiciones-artesanales-y-proyecciones-de-video-sobre-oficios-tradicionales/
CATEGORIES:Cultura
ATTACH;FMTTYPE=image/jpeg:https://nueva.candelaria.es/wp-content/uploads/Agenda-Mayo-2021-Pantallas-34.jpg
END:VEVENT
BEGIN:VEVENT
DTSTART;TZID=Europe/London:20210519T183000
DTEND;TZID=Europe/London:20210519T193000
DTSTAMP:20260422T022457
CREATED:20210430T103454Z
LAST-MODIFIED:20210430T103454Z
UID:18922-1621449000-1621452600@nueva.candelaria.es
SUMMARY:Cinefórum: ¡Luces\, cámara\, Europa!
DESCRIPTION:Zona Joven Punta Larga.\nPelícula ganadora del Premio LUX del\nParlamento Europeo: Another Round.\nCoordina: EUROPA DIRECT y JUVEUCAN
URL:https://nueva.candelaria.es/event/cineforum-luces-camara-europa/
CATEGORIES:Cultura
ATTACH;FMTTYPE=image/jpeg:https://nueva.candelaria.es/wp-content/uploads/Agenda-Mayo-2021-Pantallas-32.jpg
END:VEVENT
BEGIN:VEVENT
DTSTART;TZID=Europe/London:20210517T093000
DTEND;TZID=Europe/London:20210517T140000
DTSTAMP:20260422T022457
CREATED:20210430T103641Z
LAST-MODIFIED:20210430T103641Z
UID:18924-1621243800-1621260000@nueva.candelaria.es
SUMMARY:Programación especial por el Día Internacional contra la Homofobia y la Transfobia
DESCRIPTION:PROGRAMACIÓN ESPECIAL POR EL DÍA INTERNACIONAL CONTRA LA HOMOFOBIA Y LA TRANSFOBIA CON DIFERENTES\nVOCES DEL COLECTIVO LGTBI+\nCandelaria Radio. FM 99.1
URL:https://nueva.candelaria.es/event/programacion-especial-por-el-dia-internacional-contra-la-homofobia-y-la-transfobia/
CATEGORIES:Alcaldía
ATTACH;FMTTYPE=image/jpeg:https://nueva.candelaria.es/wp-content/uploads/Agenda-Mayo-2021-Pantallas-31.jpg
END:VEVENT
BEGIN:VEVENT
DTSTART;TZID=Europe/London:20210516T120000
DTEND;TZID=Europe/London:20210516T130000
DTSTAMP:20260422T022457
CREATED:20210430T103345Z
LAST-MODIFIED:20210430T103345Z
UID:18920-1621166400-1621170000@nueva.candelaria.es
SUMMARY:Concierto de la Orquesta de Cámara Las Candelas
DESCRIPTION:Espacio Cultural Cine Viejo.\nReserva tu plaza gratuita en tickety.es
URL:https://nueva.candelaria.es/event/concierto-de-la-orquesta-de-camara-las-candelas/
CATEGORIES:Cultura
ATTACH;FMTTYPE=image/jpeg:https://nueva.candelaria.es/wp-content/uploads/Agenda-Mayo-2021-Pantallas-30.jpg
END:VEVENT
BEGIN:VEVENT
DTSTART;TZID=Europe/London:20210516T100000
DTEND;TZID=Europe/London:20210516T110000
DTSTAMP:20260422T022457
CREATED:20210430T103240Z
LAST-MODIFIED:20210430T103240Z
UID:18918-1621159200-1621162800@nueva.candelaria.es
SUMMARY:Ruta guiada de Romería por el Camino Viejo
DESCRIPTION:Camino Viejo de Candelaria.\nDescubre la vida de los habitantes y viajeros del\ncamino desde Machado hasta Barranco Hondo.\nApta para + 8 años sin dificultad de movilidad.\nInscripción: www.caminocandelaria.com
URL:https://nueva.candelaria.es/event/ruta-guiada-de-romeria-por-el-camino-viejo/
CATEGORIES:Turismo
ATTACH;FMTTYPE=image/jpeg:https://nueva.candelaria.es/wp-content/uploads/Agenda-Mayo-2021-Pantallas-29.jpg
END:VEVENT
BEGIN:VEVENT
DTSTART;TZID=Europe/London:20210515T200000
DTEND;TZID=Europe/London:20210515T210000
DTSTAMP:20260422T022457
CREATED:20210430T103103Z
LAST-MODIFIED:20210430T103103Z
UID:18916-1621108800-1621112400@nueva.candelaria.es
SUMMARY:Concierto de Troveros de Asieta
DESCRIPTION:Espacio Cultural Cine Viejo.\nEspectáculo “Querida Cuba”.\nReserva tu plaza gratuita en tickety.es
URL:https://nueva.candelaria.es/event/concierto-de-troveros-de-asieta/
CATEGORIES:Cultura
ATTACH;FMTTYPE=image/jpeg:https://nueva.candelaria.es/wp-content/uploads/Agenda-Mayo-2021-Pantallas-28.jpg
END:VEVENT
BEGIN:VEVENT
DTSTART;TZID=Europe/London:20210515T110000
DTEND;TZID=Europe/London:20210515T120000
DTSTAMP:20260422T022457
CREATED:20210430T102954Z
LAST-MODIFIED:20210430T102954Z
UID:18914-1621076400-1621080000@nueva.candelaria.es
SUMMARY:Pequecuentos con Isabel Bolívar: Cuentos animalindos
DESCRIPTION:Centro Cultural de La Villa.\nInscripción previa en el 922 500 530 de 9.00 a 14.00 y 16.00 a 20.00 h.\nPrioridad empadronados.\nColabora: Cabildo de Tenerife.
URL:https://nueva.candelaria.es/event/pequecuentos-con-isabel-bolivar-cuentos-animalindos/
CATEGORIES:Cultura
ATTACH;FMTTYPE=image/jpeg:https://nueva.candelaria.es/wp-content/uploads/Agenda-Mayo-2021-Pantallas-27.jpg
END:VEVENT
BEGIN:VEVENT
DTSTART;TZID=Europe/London:20210515T103000
DTEND;TZID=Europe/London:20210515T113000
DTSTAMP:20260422T022457
CREATED:20210430T102808Z
LAST-MODIFIED:20210430T102808Z
UID:18912-1621074600-1621078200@nueva.candelaria.es
SUMMARY:Bebecuentos con Isabel Bolívar: Un mundo de sentidos
DESCRIPTION:Centro Cultural de La Villa.\nInscripción previa en el 922 500 530 de 9.00 a 14.00 y 16.00 a 20.00 h.\nPrioridad empadronados.\nColabora: Cabildo de Tenerife.
URL:https://nueva.candelaria.es/event/bebecuentos-con-isabel-bolivar-un-mundo-de-sentidos/
ATTACH;FMTTYPE=image/jpeg:https://nueva.candelaria.es/wp-content/uploads/Agenda-Mayo-2021-Pantallas-26.jpg
END:VEVENT
BEGIN:VEVENT
DTSTART;TZID=Europe/London:20210515T100000
DTEND;TZID=Europe/London:20210515T120000
DTSTAMP:20260422T022457
CREATED:20210430T102705Z
LAST-MODIFIED:20210430T102705Z
UID:18910-1621072800-1621080000@nueva.candelaria.es
SUMMARY:Among us en la vida real para niños
DESCRIPTION:Zona Joven Punta Larga.\n7 a 13 años.\nInscripción: zonajoven@candelaria.es
URL:https://nueva.candelaria.es/event/among-us-en-la-vida-real-para-ninos/
CATEGORIES:Juventud
ATTACH;FMTTYPE=image/jpeg:https://nueva.candelaria.es/wp-content/uploads/Agenda-Mayo-2021-Pantallas-25.jpg
END:VEVENT
BEGIN:VEVENT
DTSTART;TZID=Europe/London:20210514T170000
DTEND;TZID=Europe/London:20210514T180000
DTSTAMP:20260422T022457
CREATED:20210430T102548Z
LAST-MODIFIED:20210430T102603Z
UID:18908-1621011600-1621015200@nueva.candelaria.es
SUMMARY:Taller para adultos: el poder de los superalimentos
DESCRIPTION:Espacio Cultural de Malpaís.\nEducar sobre buenos hábitos de\nalimentación.\nInscripción previa en bibliomalpais@candelaria.es\no en el 663 187 707.\nCoordina: FADEMUR.
URL:https://nueva.candelaria.es/event/taller-para-adultos-el-poder-de-los-superalimentos/
CATEGORIES:Cultura
ATTACH;FMTTYPE=image/jpeg:https://nueva.candelaria.es/wp-content/uploads/Agenda-Mayo-2021-Pantallas-24.jpg
END:VEVENT
BEGIN:VEVENT
DTSTART;TZID=Europe/London:20210513T180000
DTEND;TZID=Europe/London:20210513T190000
DTSTAMP:20260422T022457
CREATED:20210430T102500Z
LAST-MODIFIED:20230512T142055Z
UID:18906-1620928800-1620932400@nueva.candelaria.es
SUMMARY:APLAZADO Día de la Patrona de la Policía Local
DESCRIPTION:Espacio Cultural del Cine Viejo.\nReconocimiento a los agentes de la Policía Local de Candelaria.
URL:https://nueva.candelaria.es/event/dia-de-la-patrona-de-la-policia-local/
CATEGORIES:Seguridad y Emergencias
ATTACH;FMTTYPE=image/jpeg:https://nueva.candelaria.es/wp-content/uploads/Agenda-Mayo-2021-Pantallas-23.jpg
END:VEVENT
BEGIN:VEVENT
DTSTART;TZID=Europe/London:20210512T190000
DTEND;TZID=Europe/London:20210512T200000
DTSTAMP:20260422T022457
CREATED:20210430T102300Z
LAST-MODIFIED:20210430T102300Z
UID:18904-1620846000-1620849600@nueva.candelaria.es
SUMMARY:Noche de cortos canarios: estreno del cortometraje 'Este es nuestro año'
DESCRIPTION:Espacio Cultural Cine Viejo.\nOrganiza: ALUMNADO DEL\nCURSO DE ASISTENCIA A LA\nPRODUCCIÓN CINEMATOGRÁFICA\nY OBRAS AUDIOVISUALES del Ayuntamiento de Candelaria.
URL:https://nueva.candelaria.es/event/noche-de-cortos-canarios-estreno-del-cortometraje-este-es-nuestro-ano/
CATEGORIES:Cultura,Juventud
ATTACH;FMTTYPE=image/jpeg:https://nueva.candelaria.es/wp-content/uploads/Agenda-Mayo-2021-Pantallas-21.jpg
END:VEVENT
BEGIN:VEVENT
DTSTART;TZID=Europe/London:20210510T170000
DTEND;TZID=Europe/London:20210510T180000
DTSTAMP:20260422T022457
CREATED:20210430T102103Z
LAST-MODIFIED:20210430T102109Z
UID:18902-1620666000-1620669600@nueva.candelaria.es
SUMMARY:Primera mesa profesional 'Candelaria sabor peregrino'
DESCRIPTION:Zona Joven Punta Larga.\nTaller con restauradores de Candelaria para la creación de platos “con sabor peregrino” en torno a nuestro patrimonio agroalimentario.
URL:https://nueva.candelaria.es/event/primera-mesa-profesional-candelaria-sabor-peregrino/
CATEGORIES:Turismo
ATTACH;FMTTYPE=image/jpeg:https://nueva.candelaria.es/wp-content/uploads/Agenda-Mayo-2021-Pantallas-20.jpg
END:VEVENT
BEGIN:VEVENT
DTSTART;TZID=Europe/London:20210509T120000
DTEND;TZID=Europe/London:20210509T130000
DTSTAMP:20260422T022457
CREATED:20210430T102016Z
LAST-MODIFIED:20210430T102016Z
UID:18900-1620561600-1620565200@nueva.candelaria.es
SUMMARY:Espectáculo de títeres 'Cuidado que te agarra la comida chatarra'
DESCRIPTION:Espacio Cultural Cine Viejo.\nCompañía TEATRAPAPLUS.\nReserva tu plaza gratuita en tickety.es\nColabora: Tenerife Artes Escénicas.
URL:https://nueva.candelaria.es/event/espectaculo-de-titeres-cuidado-que-te-agarra-la-comida-chatarra/
ATTACH;FMTTYPE=image/jpeg:https://nueva.candelaria.es/wp-content/uploads/Agenda-Mayo-2021-Pantallas-18.jpg
END:VEVENT
BEGIN:VEVENT
DTSTART;TZID=Europe/London:20210508T200000
DTEND;TZID=Europe/London:20210508T210000
DTSTAMP:20260422T022457
CREATED:20210430T101902Z
LAST-MODIFIED:20210430T101920Z
UID:18898-1620504000-1620507600@nueva.candelaria.es
SUMMARY:Fábula del topo\, el muerciélago y la musaraña
DESCRIPTION:Espacio Cultural Cine Viejo.\nCompañía DELIRIUM TEATRO.\nReserva tu plaza gratuita en tickety.es\nPara mayores de 15 años.\nColabora: Tenerife Artes Escénicas.
URL:https://nueva.candelaria.es/event/fabula-del-topo-el-muercielago-y-la-musarana/
CATEGORIES:Cultura
ATTACH;FMTTYPE=image/jpeg:https://nueva.candelaria.es/wp-content/uploads/Agenda-Mayo-2021-Pantallas-17.jpg
END:VEVENT
BEGIN:VEVENT
DTSTART;TZID=Europe/London:20210508T110000
DTEND;TZID=Europe/London:20210508T130000
DTSTAMP:20260422T022457
CREATED:20210430T101806Z
LAST-MODIFIED:20210430T101806Z
UID:18896-1620471600-1620478800@nueva.candelaria.es
SUMMARY:Pequecultura: dinamización de realidad virtual. 'The Blu' una experiencia submarina (4 a 10 años)
DESCRIPTION:Zona Joven Punta Larga.\nInscripción previa en el 922 500 530\, de 9.00 a 14.00 y 16.00 a 20.00 h.\nPrioridad empadronados.\nColabora: Cabildo de Tenerife
URL:https://nueva.candelaria.es/event/pequecultura-dinamizacion-de-realidad-virtual-the-blu-una-experiencia-submarina-4-a-10-anos/
CATEGORIES:Cultura
END:VEVENT
BEGIN:VEVENT
DTSTART;TZID=Europe/London:20210507T180000
DTEND;TZID=Europe/London:20210507T193000
DTSTAMP:20260422T022457
CREATED:20210430T101621Z
LAST-MODIFIED:20210430T101621Z
UID:18894-1620410400-1620415800@nueva.candelaria.es
SUMMARY:Visita guiada con cata de vinos y quesos 'Sabor peregrino'
DESCRIPTION:Bodega el rebusco.\nInscripción: www.caminocandelaria.com
URL:https://nueva.candelaria.es/event/visita-guiada-con-cata-de-vinos-y-quesos-sabor-peregrino/
CATEGORIES:Turismo
ATTACH;FMTTYPE=image/jpeg:https://nueva.candelaria.es/wp-content/uploads/Agenda-Mayo-2021-Pantallas-15.jpg
END:VEVENT
BEGIN:VEVENT
DTSTART;TZID=Europe/London:20210507T170000
DTEND;TZID=Europe/London:20210507T180000
DTSTAMP:20260422T022457
CREATED:20210430T101502Z
LAST-MODIFIED:20210430T101502Z
UID:18892-1620406800-1620410400@nueva.candelaria.es
SUMMARY:Taller de cocina canaria para jóvenes
DESCRIPTION:Zona Joven Punta Larga.\nImpartido por MARI CRUZ NAVARRO SANTOS.\nInscripción: zonajoven@candelaria.es.
URL:https://nueva.candelaria.es/event/taller-de-cocina-canaria-para-jovenes/
CATEGORIES:Juventud
ATTACH;FMTTYPE=image/jpeg:https://nueva.candelaria.es/wp-content/uploads/Agenda-Mayo-2021-Pantallas-14.jpg
END:VEVENT
BEGIN:VEVENT
DTSTART;TZID=Europe/London:20210503T080000
DTEND;TZID=Europe/London:20210503T170000
DTSTAMP:20260422T022457
CREATED:20210430T101411Z
LAST-MODIFIED:20210430T101411Z
UID:18890-1620028800-1620061200@nueva.candelaria.es
SUMMARY:Reapertura del complejo deportivo Álvaro de Armas
DESCRIPTION:Complejo Deportivo Álvaro de Armas de Barranco Hondo.\nActividades dirigidas ofertadas: pilates\, yoga\, entrenamiento funcional\, ciclo indoor\, baile Fit y GAP.
URL:https://nueva.candelaria.es/event/reapertura-del-complejo-deportivo-alvaro-de-armas/
CATEGORIES:Deportes
ATTACH;FMTTYPE=image/jpeg:https://nueva.candelaria.es/wp-content/uploads/Agenda-Mayo-2021-Pantallas-13.jpg
END:VEVENT
BEGIN:VEVENT
DTSTART;TZID=Europe/London:20210502T190000
DTEND;TZID=Europe/London:20210502T193000
DTSTAMP:20260422T022457
CREATED:20210430T101242Z
LAST-MODIFIED:20210430T101242Z
UID:18860-1619982000-1619983800@nueva.candelaria.es
SUMMARY:Celebración de la Virgen de la Rosa en Las Cuevecitas
DESCRIPTION:Solemne función religiosa en la Parroquia.
URL:https://nueva.candelaria.es/event/celebracion-de-la-virgen-de-la-rosa-en-las-cuevecitas/
CATEGORIES:Fiestas,Noticias
ATTACH;FMTTYPE=image/jpeg:https://nueva.candelaria.es/wp-content/uploads/Agenda-Mayo-2021-Pantallas-12.jpg
END:VEVENT
BEGIN:VEVENT
DTSTART;TZID=Europe/London:20210426T163000
DTEND;TZID=Europe/London:20210426T183000
DTSTAMP:20260422T022457
CREATED:20210330T125451Z
LAST-MODIFIED:20210330T125451Z
UID:18264-1619454600-1619461800@nueva.candelaria.es
SUMMARY:Curso de extensión universitaria 'Comercio electrónico\, marketing digital y gestión financiera'
DESCRIPTION:CTcan. Centro Tecnológico de Candelaria.\nPrecio: 20 € (empadronados 10 €).\nInscripción:www.sede.fg.ull.es.
URL:https://nueva.candelaria.es/event/curso-de-extension-universitaria-comercio-electronico-marketing-digital-y-gestion-financiera/
CATEGORIES:Promoción económica y Empleo
ATTACH;FMTTYPE=image/png:https://nueva.candelaria.es/wp-content/uploads/rewgtf.png
END:VEVENT
BEGIN:VEVENT
DTSTART;TZID=Europe/London:20210425T120000
DTEND;TZID=Europe/London:20210425T130000
DTSTAMP:20260422T022457
CREATED:20210330T125316Z
LAST-MODIFIED:20210330T125316Z
UID:18262-1619352000-1619355600@nueva.candelaria.es
SUMMARY:Concierto 'Éxitos de Broadway' de la Banda de Música Las Candelas
DESCRIPTION:Espacio Cultural Cine Viejo.\nReserva tu plaza gratuita en\ntickety.es
URL:https://nueva.candelaria.es/event/concierto-exitos-de-broadway-de-la-banda-de-musica-las-candelas/
CATEGORIES:Cultura
ATTACH;FMTTYPE=image/jpeg:https://nueva.candelaria.es/wp-content/uploads/Agenda-Abril-2021-Pantallas-39.jpg
END:VEVENT
BEGIN:VEVENT
DTSTART;TZID=Europe/London:20210424T200000
DTEND;TZID=Europe/London:20210424T210000
DTSTAMP:20260422T022457
CREATED:20210330T125207Z
LAST-MODIFIED:20210330T125207Z
UID:18260-1619294400-1619298000@nueva.candelaria.es
SUMMARY:Noche del libro: informe Lope
DESCRIPTION:Espacio Cultural Cine Viejo.\nCompañía MORFEMA TEATRO.\nReserva tu\nplaza gratuita\nen tickety.es
URL:https://nueva.candelaria.es/event/noche-del-libro-informe-lope/
CATEGORIES:Cultura
ATTACH;FMTTYPE=image/jpeg:https://nueva.candelaria.es/wp-content/uploads/Agenda-Abril-2021-Pantallas-38.jpg
END:VEVENT
BEGIN:VEVENT
DTSTART;TZID=Europe/London:20210424T173000
DTEND;TZID=Europe/London:20210424T183000
DTSTAMP:20260422T022457
CREATED:20210330T124108Z
LAST-MODIFIED:20210330T124108Z
UID:18258-1619285400-1619289000@nueva.candelaria.es
SUMMARY:Ruta teatralizada para familias: Historias de Malpaís
DESCRIPTION:17.30 horas.  Salida desde el Espacio Cultural de Malpaís.\nInscripción previa en el 922 500 530\,\nde 9.00 a 14.00 y 16.00 a 20.00 h.\nPrioridad empadronados.\nColabora: Cabildo de Tenerife
URL:https://nueva.candelaria.es/event/ruta-teatralizada-para-familias-historias-de-malpais/
CATEGORIES:Cultura
ATTACH;FMTTYPE=image/jpeg:https://nueva.candelaria.es/wp-content/uploads/Agenda-Abril-2021-Pantallas-36.jpg
END:VEVENT
BEGIN:VEVENT
DTSTART;TZID=Europe/London:20210424T110000
DTEND;TZID=Europe/London:20210424T130000
DTSTAMP:20260422T022457
CREATED:20210330T123908Z
LAST-MODIFIED:20210330T123908Z
UID:18254-1619262000-1619269200@nueva.candelaria.es
SUMMARY:Nuevos talleres de Pequecultura
DESCRIPTION:11.00 Zona Joven Punta Larga.\n11.00 h. Taller narrado El principito. Grupo 4 BICHOS.\n11.30 h. Cuentacuento “Mira que te cuento”. ANTONIO CONEJO.\nInscripción previa en el 922 500 530\, de 9.00 a 14.00 y 16.00 a 20.00 h.\nPrioridad empadronados.\nColabora: Cabildo de Tenerife.
URL:https://nueva.candelaria.es/event/nuevos-talleres-de-pequecultura/
CATEGORIES:Cultura
ATTACH;FMTTYPE=image/jpeg:https://nueva.candelaria.es/wp-content/uploads/Agenda-Abril-2021-Pantallas-35.jpg
END:VEVENT
BEGIN:VEVENT
DTSTART;TZID=Europe/London:20210424T100000
DTEND;TZID=Europe/London:20210424T130000
DTSTAMP:20260422T022457
CREATED:20210330T123358Z
LAST-MODIFIED:20210330T123358Z
UID:18250-1619258400-1619269200@nueva.candelaria.es
SUMMARY:Visita y charla-taller 'Arte y terapia en la Basílica'
DESCRIPTION:Basílica y Ayuntamiento Viejo.\nArte y la salud emocional a partir de las obras pictóricas de\nJosé Aguiar y taller de arte terapéutico.\nInscripciones: oit@candelaria.es
URL:https://nueva.candelaria.es/event/visita-y-charla-taller-arte-y-terapia-en-la-basilica/
CATEGORIES:Turismo
ATTACH;FMTTYPE=image/jpeg:https://nueva.candelaria.es/wp-content/uploads/Agenda-Abril-2021-Pantallas-34.jpg
END:VEVENT
BEGIN:VEVENT
DTSTART;TZID=Europe/London:20210424T080000
DTEND;TZID=Europe/London:20210424T140000
DTSTAMP:20260422T022457
CREATED:20210330T123302Z
LAST-MODIFIED:20210330T123302Z
UID:18248-1619251200-1619272800@nueva.candelaria.es
SUMMARY:Ruta 'Malpaís de Güímar'
DESCRIPTION:Itinerario circular en el Puertito de Güímar.\nDificultad: baja.\nRUTA “MALPAÍS DE GÜIMAR”\nRuta guiada\nMedioambiente (ext. 7102)
URL:https://nueva.candelaria.es/event/ruta-malpais-de-guimar/
CATEGORIES:Medio ambiente natural
ATTACH;FMTTYPE=image/jpeg:https://nueva.candelaria.es/wp-content/uploads/Agenda-Abril-2021-Pantallas-33.jpg
END:VEVENT
END:VCALENDAR