BEGIN:VCALENDAR
VERSION:2.0
PRODID:-//Candelaria - ECPv6.15.6//NONSGML v1.0//EN
CALSCALE:GREGORIAN
METHOD:PUBLISH
X-WR-CALNAME:Candelaria
X-ORIGINAL-URL:https://nueva.candelaria.es
X-WR-CALDESC:Eventos para Candelaria
REFRESH-INTERVAL;VALUE=DURATION:PT1H
X-Robots-Tag:noindex
X-PUBLISHED-TTL:PT1H
BEGIN:VTIMEZONE
TZID:Europe/London
BEGIN:DAYLIGHT
TZOFFSETFROM:+0000
TZOFFSETTO:+0100
TZNAME:BST
DTSTART:20200329T010000
END:DAYLIGHT
BEGIN:STANDARD
TZOFFSETFROM:+0100
TZOFFSETTO:+0000
TZNAME:GMT
DTSTART:20201025T010000
END:STANDARD
BEGIN:DAYLIGHT
TZOFFSETFROM:+0000
TZOFFSETTO:+0100
TZNAME:BST
DTSTART:20210328T010000
END:DAYLIGHT
BEGIN:STANDARD
TZOFFSETFROM:+0100
TZOFFSETTO:+0000
TZNAME:GMT
DTSTART:20211031T010000
END:STANDARD
BEGIN:DAYLIGHT
TZOFFSETFROM:+0000
TZOFFSETTO:+0100
TZNAME:BST
DTSTART:20220327T010000
END:DAYLIGHT
BEGIN:STANDARD
TZOFFSETFROM:+0100
TZOFFSETTO:+0000
TZNAME:GMT
DTSTART:20221030T010000
END:STANDARD
END:VTIMEZONE
BEGIN:VEVENT
DTSTART;TZID=Europe/London:20210415T180000
DTEND;TZID=Europe/London:20210415T190000
DTSTAMP:20260422T082016
CREATED:20210330T122328Z
LAST-MODIFIED:20210330T122328Z
UID:18230-1618509600-1618513200@nueva.candelaria.es
SUMMARY:Taller de plantas exóticas e invasoras
DESCRIPTION:Acción online a cargo de REDEXOS.\nVoluntariado ambiental.
URL:https://nueva.candelaria.es/event/taller-de-plantas-exoticas-e-invasoras/
CATEGORIES:Medio ambiente natural
ATTACH;FMTTYPE=image/jpeg:https://nueva.candelaria.es/wp-content/uploads/Agenda-Abril-2021-Pantallas-19.jpg
END:VEVENT
BEGIN:VEVENT
DTSTART;TZID=Europe/London:20210415T170000
DTEND;TZID=Europe/London:20210416T170000
DTSTAMP:20260422T082016
CREATED:20210330T122135Z
LAST-MODIFIED:20210330T122135Z
UID:18228-1618506000-1618592400@nueva.candelaria.es
SUMMARY:Juego dinámico estratégico: among us en la vida real
DESCRIPTION:Zona Joven Punta Larga.\nInscripción: zonajoven@candelaria.es
URL:https://nueva.candelaria.es/event/juego-dinamico-estrategico-among-us-en-la-vida-real/
CATEGORIES:Juventud
ATTACH;FMTTYPE=image/jpeg:https://nueva.candelaria.es/wp-content/uploads/Agenda-Abril-2021-Pantallas-18.jpg
END:VEVENT
BEGIN:VEVENT
DTSTART;TZID=Europe/London:20210415T080000
DTEND;TZID=Europe/London:20210415T170000
DTSTAMP:20260422T082016
CREATED:20210330T122031Z
LAST-MODIFIED:20210330T122031Z
UID:18226-1618473600-1618506000@nueva.candelaria.es
SUMMARY:Curso 'Dinamización de tiempo libre educativo\, infantil y juvenil para desempleados'
DESCRIPTION:Centro Cultural Cho Morrocoyo De Barranco Hondo.\nFecha fin: 26/05/2021.\nInformación:\nSAC ADL (ext. 1314).
URL:https://nueva.candelaria.es/event/curso-dinamizacion-de-tiempo-libre-educativo-infantil-y-juvenil-para-desempleados/
CATEGORIES:Promoción económica y Empleo
ATTACH;FMTTYPE=image/jpeg:https://nueva.candelaria.es/wp-content/uploads/Agenda-Abril-2021-Pantallas-17.jpg
END:VEVENT
BEGIN:VEVENT
DTSTART;TZID=Europe/London:20210414T080000
DTEND;TZID=Europe/London:20210414T170000
DTSTAMP:20260422T082016
CREATED:20210414T115555Z
LAST-MODIFIED:20210414T115644Z
UID:18404-1618387200-1618419600@nueva.candelaria.es
SUMMARY:El Ayuntamiento de Candelaria rehabilita el Camino El Carillo en Barranco Hondo
DESCRIPTION:El Ayuntamiento de Candelaria rehabilita el Camino El Carillo en Barranco Hondo\nDebido a las inclemencias del tiempo durante la temporada invernal el Camino El Carrillo\, en Barranco Hondo\, sufrió daños en la vía que impedían el paso de personas y vehículos. De esta manera\, el Ayuntamiento de Candelaria ha trabajado en las últimas semanas en la rehabilitación de esta área siendo nuevamente accesible para que los vecinos y vecinas puedan acceder a las zonas de cultivo.
URL:https://nueva.candelaria.es/event/el-ayuntamiento-de-candelaria-rehabilita-el-camino-el-carillo-en-barranco-hondo/
CATEGORIES:Noticias,Obras y Servicios
ATTACH;FMTTYPE=image/jpeg:https://nueva.candelaria.es/wp-content/uploads/Pista-el-carril-Mejoras-8.jpeg
END:VEVENT
BEGIN:VEVENT
DTSTART;TZID=Europe/London:20210412T163000
DTEND;TZID=Europe/London:20210412T173000
DTSTAMP:20260422T082016
CREATED:20210330T121916Z
LAST-MODIFIED:20210330T123531Z
UID:18224-1618245000-1618248600@nueva.candelaria.es
SUMMARY:Segunda mesa de trabajo del proyecto 'Candelaria sabor peregrino'
DESCRIPTION:Zona Joven Punta Larga.\nReunión con productores y restauradores de Candelaria para la generación de productos turísticos\nen torno al patrimonio agroalimentario y culinario.
URL:https://nueva.candelaria.es/event/segunda-mesa-de-trabajo-del-proyecto-candelaria-sabor-peregrino/
CATEGORIES:Turismo
ATTACH;FMTTYPE=image/jpeg:https://nueva.candelaria.es/wp-content/uploads/Agenda-Abril-2021-Pantallas-16.jpg
END:VEVENT
BEGIN:VEVENT
DTSTART;TZID=Europe/London:20210412T103000
DTEND;TZID=Europe/London:20210415T130000
DTSTAMP:20260422T082016
CREATED:20210330T121813Z
LAST-MODIFIED:20210330T121813Z
UID:18222-1618223400-1618491600@nueva.candelaria.es
SUMMARY:Pesca artesanal y sostenible
DESCRIPTION:IES Punta Larga\nCharla escolar
URL:https://nueva.candelaria.es/event/pesca-artesanal-y-sostenible-2/
CATEGORIES:Desarrollo rural y pesquero
ATTACH;FMTTYPE=image/jpeg:https://nueva.candelaria.es/wp-content/uploads/Agenda-Abril-2021-Pantallas-15.jpg
END:VEVENT
BEGIN:VEVENT
DTSTART;TZID=Europe/London:20210411T120000
DTEND;TZID=Europe/London:20210411T130000
DTSTAMP:20260422T082016
CREATED:20210330T121712Z
LAST-MODIFIED:20210330T121712Z
UID:18220-1618142400-1618146000@nueva.candelaria.es
SUMMARY:Concierto 'Matices' de la Banda de Música Las Candelas
DESCRIPTION:Espacio Cultural Cine Viejo.\nReserva tu plaza gratuita en tickety.es.
URL:https://nueva.candelaria.es/event/concierto-matices-de-la-banda-de-musica-las-candelas/
CATEGORIES:Cultura
ATTACH;FMTTYPE=image/jpeg:https://nueva.candelaria.es/wp-content/uploads/Agenda-Abril-2021-Pantallas-14.jpg
END:VEVENT
BEGIN:VEVENT
DTSTART;TZID=Europe/London:20210410T200000
DTEND;TZID=Europe/London:20210410T210000
DTSTAMP:20260422T082016
CREATED:20210330T121606Z
LAST-MODIFIED:20210330T121606Z
UID:18218-1618084800-1618088400@nueva.candelaria.es
SUMMARY:Conciertos Musas. The greatest voices
DESCRIPTION:Espacio Cultural Cine Viejo.\nCanciones de Aretha Franklin\, Whitney Houston\, Sade y otras divas\, en la voz de PATRICIA\nBAKER. Reserva tu plaza gratuita en tickety.es.
URL:https://nueva.candelaria.es/event/conciertos-musas-the-greatest-voices/
CATEGORIES:Cultura
ATTACH;FMTTYPE=image/jpeg:https://nueva.candelaria.es/wp-content/uploads/Agenda-Abril-2021-Pantallas-13.jpg
END:VEVENT
BEGIN:VEVENT
DTSTART;TZID=Europe/London:20210408T170000
DTEND;TZID=Europe/London:20210408T190000
DTSTAMP:20260422T082016
CREATED:20210330T121451Z
LAST-MODIFIED:20210330T121451Z
UID:18216-1617901200-1617908400@nueva.candelaria.es
SUMMARY:Torneo de Ping Pong
DESCRIPTION:Zona Joven Punta Larga\nInscripción: zonajoven@candelaria.es
URL:https://nueva.candelaria.es/event/torneo-de-ping-pong/
CATEGORIES:Deportes
ATTACH;FMTTYPE=image/jpeg:https://nueva.candelaria.es/wp-content/uploads/Agenda-Abril-2021-Pantallas-10.jpg
END:VEVENT
BEGIN:VEVENT
DTSTART;TZID=Europe/London:20210408T163000
DTEND;TZID=Europe/London:20210408T170000
DTSTAMP:20260422T082016
CREATED:20210330T121240Z
LAST-MODIFIED:20210330T121240Z
UID:18214-1617899400-1617901200@nueva.candelaria.es
SUMMARY:Aguas con sabor y tazas saludables
DESCRIPTION:Centro Rural La Caseta.\nCon productos locales.\nImpartido por NATURALMENTE MARGUI.\nInscripción: desarrollorural@candelaria.es
URL:https://nueva.candelaria.es/event/aguas-con-sabor-y-tazas-saludables/
CATEGORIES:Desarrollo rural y pesquero
ATTACH;FMTTYPE=image/jpeg:https://nueva.candelaria.es/wp-content/uploads/Agenda-Abril-2021-Pantallas-09.jpg
END:VEVENT
BEGIN:VEVENT
DTSTART;TZID=Europe/London:20210406T180000
DTEND;TZID=Europe/London:20210406T190000
DTSTAMP:20260422T082016
CREATED:20210330T121107Z
LAST-MODIFIED:20210330T121107Z
UID:18212-1617732000-1617735600@nueva.candelaria.es
SUMMARY:Charla para madres y padres 'El jardín de los sentidos'
DESCRIPTION:Zona Joven Punta Larga.\nBasada en la pedagogía Montessori.\nInscripción previa:\n696697496
URL:https://nueva.candelaria.es/event/charla-para-madres-y-padres-el-jardin-de-los-sentidos/
CATEGORIES:Educación
END:VEVENT
BEGIN:VEVENT
DTSTART;TZID=Europe/London:20210403T200000
DTEND;TZID=Europe/London:20210403T210000
DTSTAMP:20260422T082016
CREATED:20210330T120936Z
LAST-MODIFIED:20210330T120936Z
UID:18208-1617480000-1617483600@nueva.candelaria.es
SUMMARY:Concierto de Paula Gómez y Amaggio Band
DESCRIPTION:Espacio Cultural Cine Viejo.\nReserva tu plaza gratuita\nen tickety.es.\nMúsica de todos los tiempos\na cargo de jóvenes talentos.
URL:https://nueva.candelaria.es/event/concierto-de-paula-gomez-y-amaggio-band/
CATEGORIES:Cultura
ATTACH;FMTTYPE=image/jpeg:https://nueva.candelaria.es/wp-content/uploads/Agenda-Abril-2021-Pantallas-07.jpg
END:VEVENT
BEGIN:VEVENT
DTSTART;TZID=Europe/London:20210328T190000
DTEND;TZID=Europe/London:20210328T193000
DTSTAMP:20260422T082016
CREATED:20210318T084135Z
LAST-MODIFIED:20210318T084451Z
UID:18026-1616958000-1616959800@nueva.candelaria.es
SUMMARY:5º Encuentro de música sacra de Candelaria
DESCRIPTION:5º ENCUENTRO DE MÚSICA SACRA DE CANDELARIA: BANDA DE MÚSICA LAS CANDELAS \n19.00 horas. Basílica de Candelaria
URL:https://nueva.candelaria.es/event/5o-encuentro-de-musica-sacra-de-candelaria-2/
CATEGORIES:Cultura
ATTACH;FMTTYPE=image/jpeg:https://nueva.candelaria.es/wp-content/uploads/Agenda-Marzo-2021-Pantallas-50-1.jpg
END:VEVENT
BEGIN:VEVENT
DTSTART;TZID=Europe/London:20210328T120000
DTEND;TZID=Europe/London:20210328T133000
DTSTAMP:20260422T082016
CREATED:20210318T083954Z
LAST-MODIFIED:20210318T083954Z
UID:18023-1616932800-1616938200@nueva.candelaria.es
SUMMARY:Concierto de la nueva banda de Igueste
DESCRIPTION:12.00 horas\, Espacio Cultural Cine Viejo.
URL:https://nueva.candelaria.es/event/concierto-de-la-nueva-banda-de-igueste/
CATEGORIES:Cultura
ATTACH;FMTTYPE=image/jpeg:https://nueva.candelaria.es/wp-content/uploads/Agenda-Marzo-2021-Pantallas-49-2.jpg
END:VEVENT
BEGIN:VEVENT
DTSTART;TZID=Europe/London:20210327T190000
DTEND;TZID=Europe/London:20210327T200000
DTSTAMP:20260422T082016
CREATED:20210318T083706Z
LAST-MODIFIED:20210318T083706Z
UID:18017-1616871600-1616875200@nueva.candelaria.es
SUMMARY:5º Encuentro de música sacra de Candelaria
DESCRIPTION:5º ENCUENTRO DE MÚSICA SACRA DE CANDELARIA:\n“VOCES PARA LA ESPERANZA” CON LA CORAL VILLA DE CANDELARIA \n19.00 horas. Basílica de Candelaria.\nCoordina: CORAL VILLA DE CANDELARIA.
URL:https://nueva.candelaria.es/event/5o-encuentro-de-musica-sacra-de-candelaria/
CATEGORIES:Cultura
ATTACH;FMTTYPE=image/jpeg:https://nueva.candelaria.es/wp-content/uploads/Agenda-Marzo-2021-Pantallas-47-1.jpg
END:VEVENT
BEGIN:VEVENT
DTSTART;TZID=Europe/London:20210327T180000
DTEND;TZID=Europe/London:20210327T200000
DTSTAMP:20260422T082016
CREATED:20210318T083536Z
LAST-MODIFIED:20210318T083536Z
UID:18014-1616868000-1616875200@nueva.candelaria.es
SUMMARY:Festival 14º Aniversario Zona Joven
DESCRIPTION:18.00 horas. Zona Joven de Punta Larga.
URL:https://nueva.candelaria.es/event/festival-14o-aniversario-zona-joven/
CATEGORIES:Juventud
ATTACH;FMTTYPE=image/jpeg:https://nueva.candelaria.es/wp-content/uploads/Agenda-Marzo-2021-Pantallas-46-1.jpg
END:VEVENT
BEGIN:VEVENT
DTSTART;TZID=Europe/London:20210327T080000
DTEND;TZID=Europe/London:20210327T170000
DTSTAMP:20260422T082016
CREATED:20210318T083836Z
LAST-MODIFIED:20210318T084253Z
UID:18021-1616832000-1616864400@nueva.candelaria.es
SUMMARY:Artium
DESCRIPTION:Día mundial del Teatro \n20.00 horas. Espacio Cultural Cine Viejo\nCompañía: ZÁLATTA TEATRO. \nTrama: Susana\, una exitosa dermatóloga\, adquiere una carísima obra de arte contemporáneo que enseña a su amiga Maria\, la cual se enfada bastante al pensar cómo su amiga ha despilfarrado el dinero en un lienzo abstracto que ella considera una patraña. Una tercera amiga\, Irene\, considera que la obra puede que no sea arte\, pero respeta la decisión de la compra de su amiga.
URL:https://nueva.candelaria.es/event/artium/
CATEGORIES:Cultura
ATTACH;FMTTYPE=image/jpeg:https://nueva.candelaria.es/wp-content/uploads/Agenda-Marzo-2021-Pantallas-48-1.jpg
END:VEVENT
BEGIN:VEVENT
DTSTART;TZID=Europe/London:20210327T073000
DTEND;TZID=Europe/London:20210327T140000
DTSTAMP:20260422T082016
CREATED:20210318T083430Z
LAST-MODIFIED:20210318T083430Z
UID:18012-1616830200-1616853600@nueva.candelaria.es
SUMMARY:Sendero Barranco de Chacorche
DESCRIPTION:7.30 horas. Itinerario: Plaza Dimas\nCoello-Barranco de Chacorche.\nDificultad: media. Distancia: 7 km
URL:https://nueva.candelaria.es/event/sendero-barranco-de-chacorche/
CATEGORIES:Medio ambiente natural
ATTACH;FMTTYPE=image/jpeg:https://nueva.candelaria.es/wp-content/uploads/Agenda-Marzo-2021-Pantallas-45.jpg
END:VEVENT
BEGIN:VEVENT
DTSTART;TZID=Europe/London:20210324T110000
DTEND;TZID=Europe/London:20210326T130000
DTSTAMP:20260422T082016
CREATED:20210318T083315Z
LAST-MODIFIED:20210318T083315Z
UID:18008-1616583600-1616763600@nueva.candelaria.es
SUMMARY:Siembra de plantas canarias
DESCRIPTION:11.00 horas. Centro alfarero y Caseta del peón caminero.\nProyecto Mayores ODSadas.\nOrganiza: CRUZ ROJA
URL:https://nueva.candelaria.es/event/siembra-de-plantas-canarias/
CATEGORIES:Medio ambiente natural
ATTACH;FMTTYPE=image/jpeg:https://nueva.candelaria.es/wp-content/uploads/Agenda-Marzo-2021-Pantallas-43-1.jpg
END:VEVENT
BEGIN:VEVENT
DTSTART;TZID=Europe/London:20210324T080000
DTEND;TZID=Europe/London:20210324T150000
DTSTAMP:20260422T082016
CREATED:20210318T083157Z
LAST-MODIFIED:20210318T083157Z
UID:18005-1616572800-1616598000@nueva.candelaria.es
SUMMARY:Curso 'Dinamización de actividades de tiempo libre educativo\, infantil y juvenil para desempleados'
DESCRIPTION:8.00 horas. Espacio Cultural de Barranco Hondo.\nInformación: SAC y AEDL. \n 
URL:https://nueva.candelaria.es/event/curso-dinamizacion-de-actividades-de-tiempo-libre-educativo-infantil-y-juvenil-para-desempleados/
CATEGORIES:Promoción económica y Empleo
ATTACH;FMTTYPE=image/jpeg:https://nueva.candelaria.es/wp-content/uploads/Agenda-Marzo-2021-Pantallas-42-1.jpg
END:VEVENT
BEGIN:VEVENT
DTSTART;TZID=Europe/London:20210322T170000
DTEND;TZID=Europe/London:20210322T200000
DTSTAMP:20260422T082016
CREATED:20210318T083022Z
LAST-MODIFIED:20210318T083022Z
UID:18002-1616432400-1616443200@nueva.candelaria.es
SUMMARY:IV Territorial de frontenis preolímpico
DESCRIPTION:17.00 horas. FRONTÓN MUNICIPAL DE PUNTA LARGA \nPrueba integrada en el calendario de la FEDERACIÓN CANARIA DE PELOTA con encuentros\ntoda la semana. \n  \n 
URL:https://nueva.candelaria.es/event/iv-territorial-de-frontenis-preolimpico/
CATEGORIES:Deportes
ATTACH;FMTTYPE=image/jpeg:https://nueva.candelaria.es/wp-content/uploads/Agenda-Marzo-2021-Pantallas-41-1.jpg
END:VEVENT
BEGIN:VEVENT
DTSTART;TZID=Europe/London:20210322T150000
DTEND;TZID=Europe/London:20210322T170000
DTSTAMP:20260422T082016
CREATED:20210318T082832Z
LAST-MODIFIED:20210318T082832Z
UID:17999-1616425200-1616432400@nueva.candelaria.es
SUMMARY:Curso 'Aprovecha tus redes para sacar el corazón de tu negocio'
DESCRIPTION:Formación \nCTcan. Centro Tecnológico de Candelaria\nDestinado a comerciantes y empresarios.\nInscripción: https://forms.gle/2JavcwgVGmBxDRyD6 
URL:https://nueva.candelaria.es/event/curso-aprovecha-tus-redes-para-sacar-el-corazon-de-tu-negocio/
CATEGORIES:Comercio
ATTACH;FMTTYPE=image/jpeg:https://nueva.candelaria.es/wp-content/uploads/Agenda-Marzo-2021-Pantallas-40-1.jpg
END:VEVENT
BEGIN:VEVENT
DTSTART;TZID=Europe/London:20210322T090000
DTEND;TZID=Europe/London:20210323T130000
DTSTAMP:20260422T082016
CREATED:20210318T082646Z
LAST-MODIFIED:20210318T082646Z
UID:17996-1616403600-1616504400@nueva.candelaria.es
SUMMARY:Pesca Artesanal y sostenible
DESCRIPTION:CEIP PUNTA LARGA.\nFormación profesional y pesquera. \nCharla escolar.
URL:https://nueva.candelaria.es/event/pesca-artesanal-y-sostenible/
CATEGORIES:Desarrollo rural y pesquero
ATTACH;FMTTYPE=image/jpeg:https://nueva.candelaria.es/wp-content/uploads/Agenda-Marzo-2021-Pantallas-39-1.jpg
END:VEVENT
BEGIN:VEVENT
DTSTART;TZID=Europe/London:20210321T120000
DTEND;TZID=Europe/London:20210321T130000
DTSTAMP:20260422T082016
CREATED:20210318T082512Z
LAST-MODIFIED:20210318T084331Z
UID:17993-1616328000-1616331600@nueva.candelaria.es
SUMMARY:Espectáculo de marionetas de hilo para niños 'The puppet circus'
DESCRIPTION:12.00 Espacio Cultural Cine Viejo.\nCompañía: ALAUDA TEATRO.\nImprescindible solicitar plaza en el 822 028 770. Ext. 4101\, de\n9.00 a 14.00 h\, aportando nombre y DNI hasta completar aforo\n(máximo 4 plazas juntas de la misma unidad de convivencia).\nPrioridad para empadronados.\nColabora: Cabildo de Tenerife.
URL:https://nueva.candelaria.es/event/espectaculo-de-marionetas-de-hilo-para-ninos-the-puppet-circus/
CATEGORIES:Cultura
ATTACH;FMTTYPE=image/jpeg:https://nueva.candelaria.es/wp-content/uploads/Agenda-Marzo-2021-Pantallas-38-1.jpg
END:VEVENT
BEGIN:VEVENT
DTSTART;TZID=Europe/London:20210320T090000
DTEND;TZID=Europe/London:20210320T170000
DTSTAMP:20260422T082016
CREATED:20210312T140933Z
LAST-MODIFIED:20210312T151830Z
UID:17943-1616230800-1616259600@nueva.candelaria.es
SUMMARY:Samarines en primavera
DESCRIPTION:Sendero para conocer la naturaleza y los recursos de la comunidad guanche.\nApta para + de 7 años acompañados.\nInscripciones: oit@candelaria.es.
URL:https://nueva.candelaria.es/event/samarines-en-primavera/
CATEGORIES:Turismo
ATTACH;FMTTYPE=image/jpeg:https://nueva.candelaria.es/wp-content/uploads/Agenda-Marzo-2021-Pantallas-27.jpg
END:VEVENT
BEGIN:VEVENT
DTSTART;VALUE=DATE:20210320
DTEND;VALUE=DATE:20210321
DTSTAMP:20260422T082016
CREATED:20210318T082410Z
LAST-MODIFIED:20210318T082410Z
UID:17990-1616198400-1616284799@nueva.candelaria.es
SUMMARY:6º Festival de Música de Cámara Agustín Ramos
DESCRIPTION:Espacio Cultural Cine Viejo.\nDirección: PATRICIO GUTIÉRREZ.\nMúsico invitado: ADÁN DELGADO\, Trompeta\nsolista de la Orquesta Nacional de España.\nColabora: Conservatorio Superior de Música de Canarias
URL:https://nueva.candelaria.es/event/6o-festival-de-musica-de-camara-agustin-ramos/
CATEGORIES:Cultura
ATTACH;FMTTYPE=image/jpeg:https://nueva.candelaria.es/wp-content/uploads/Agenda-Marzo-2021-Pantallas-36-1.jpg
END:VEVENT
BEGIN:VEVENT
DTSTART;TZID=Europe/London:20210319T180000
DTEND;TZID=Europe/London:20210319T203000
DTSTAMP:20260422T082016
CREATED:20210312T132002Z
LAST-MODIFIED:20210312T132002Z
UID:17940-1616176800-1616185800@nueva.candelaria.es
SUMMARY:Espectáculo para niños 'Todo lo que sepo'
DESCRIPTION:Espacio Cultural Cine Viejo.\nCompañía: COMEDIA DESASTRE.\nImprescindible solicitar plaza en el 822 028 770. Ext. 4101\, de\n9.00 a 14.00 h\, aportando nombre y DNI hasta completar aforo\n(máximo 4 plazas juntas de la misma unidad de convivencia).\nPrioridad para empadronados.\nColabora: Cabildo de Tenerife.
URL:https://nueva.candelaria.es/event/espectaculo-para-ninos-todo-lo-que-sepo/
CATEGORIES:Cultura
ATTACH;FMTTYPE=image/jpeg:https://nueva.candelaria.es/wp-content/uploads/Agenda-Marzo-2021-Pantallas-26.jpg
END:VEVENT
BEGIN:VEVENT
DTSTART;TZID=Europe/London:20210319T090000
DTEND;TZID=Europe/London:20210319T170000
DTSTAMP:20260422T082016
CREATED:20210312T131032Z
LAST-MODIFIED:20210312T131729Z
UID:17937-1616144400-1616173200@nueva.candelaria.es
SUMMARY:Inicio periodo de cobro del impuesto de vehículos de tracción mecánica (rodaje)
DESCRIPTION:19 de marzo a 21 de mayo.\nInformación: Tributostenerife.es\n-922 208 200
URL:https://nueva.candelaria.es/event/inicio-periodo-de-cobro-del-impuesto-de-vehiculos-de-traccion-mecanica-rodaje/
CATEGORIES:Hacienda
ATTACH;FMTTYPE=image/jpeg:https://nueva.candelaria.es/wp-content/uploads/Agenda-Marzo-2021-Pantallas-25.jpg
END:VEVENT
BEGIN:VEVENT
DTSTART;TZID=Europe/London:20210318T190000
DTEND;TZID=Europe/London:20210318T203000
DTSTAMP:20260422T082016
CREATED:20210312T130536Z
LAST-MODIFIED:20210312T130536Z
UID:17934-1616094000-1616099400@nueva.candelaria.es
SUMMARY:Entrega del título de Hijo Adoptivo de Candelaria a Don Manolo Ramos
DESCRIPTION:Espacio Cultural Cine Viejo.\n19.00 horas.
URL:https://nueva.candelaria.es/event/entrega-del-titulo-de-hijo-adoptivo-de-candelaria-a-don-manolo-ramos/
CATEGORIES:Relaciones institucionales y protocolo
ATTACH;FMTTYPE=image/jpeg:https://nueva.candelaria.es/wp-content/uploads/Agenda-Marzo-2021-Pantallas-24.jpg
END:VEVENT
BEGIN:VEVENT
DTSTART;TZID=Europe/London:20210318T090000
DTEND;TZID=Europe/London:20210318T200000
DTSTAMP:20260422T082016
CREATED:20210312T130406Z
LAST-MODIFIED:20210713T083237Z
UID:17931-1616058000-1616097600@nueva.candelaria.es
SUMMARY:Apertura de la exposición 'Sukiya'\, fotografías de Alejandro Togores
DESCRIPTION:Espacio Cultural Ayuntamiento Viejo\nLunes a viernes. 9.00 a 14.00 y 16.00 a 20.00 h.\nHasta el 18 de julio.\nCoordina: TEA Tenerife Espacio de las Artes.\nCabildo de Tenerife.
URL:https://nueva.candelaria.es/event/apertura-de-la-exposicion-sukiya-fotografias-de-alejandro-tagores/
CATEGORIES:Cultura
ATTACH;FMTTYPE=image/jpeg:https://nueva.candelaria.es/wp-content/uploads/Agenda-Marzo-2021-Pantallas-23.jpg
END:VEVENT
END:VCALENDAR