BEGIN:VCALENDAR
VERSION:2.0
PRODID:-//Candelaria - ECPv6.15.6//NONSGML v1.0//EN
CALSCALE:GREGORIAN
METHOD:PUBLISH
X-ORIGINAL-URL:https://nueva.candelaria.es
X-WR-CALDESC:Eventos para Candelaria
REFRESH-INTERVAL;VALUE=DURATION:PT1H
X-Robots-Tag:noindex
X-PUBLISHED-TTL:PT1H
BEGIN:VTIMEZONE
TZID:Europe/London
BEGIN:DAYLIGHT
TZOFFSETFROM:+0000
TZOFFSETTO:+0100
TZNAME:BST
DTSTART:20190331T010000
END:DAYLIGHT
BEGIN:STANDARD
TZOFFSETFROM:+0100
TZOFFSETTO:+0000
TZNAME:GMT
DTSTART:20191027T010000
END:STANDARD
BEGIN:DAYLIGHT
TZOFFSETFROM:+0000
TZOFFSETTO:+0100
TZNAME:BST
DTSTART:20200329T010000
END:DAYLIGHT
BEGIN:STANDARD
TZOFFSETFROM:+0100
TZOFFSETTO:+0000
TZNAME:GMT
DTSTART:20201025T010000
END:STANDARD
BEGIN:DAYLIGHT
TZOFFSETFROM:+0000
TZOFFSETTO:+0100
TZNAME:BST
DTSTART:20210328T010000
END:DAYLIGHT
BEGIN:STANDARD
TZOFFSETFROM:+0100
TZOFFSETTO:+0000
TZNAME:GMT
DTSTART:20211031T010000
END:STANDARD
BEGIN:DAYLIGHT
TZOFFSETFROM:+0000
TZOFFSETTO:+0100
TZNAME:BST
DTSTART:20220327T010000
END:DAYLIGHT
BEGIN:STANDARD
TZOFFSETFROM:+0100
TZOFFSETTO:+0000
TZNAME:GMT
DTSTART:20221030T010000
END:STANDARD
END:VTIMEZONE
BEGIN:VEVENT
DTSTART;TZID=Europe/London:20210127T100000
DTEND;TZID=Europe/London:20210127T130000
DTSTAMP:20260422T200900
CREATED:20210113T095906Z
LAST-MODIFIED:20210113T095906Z
UID:16465-1611741600-1611752400@nueva.candelaria.es
SUMMARY:Programa especial de Candelaria Radio
DESCRIPTION:Programa especial de Candelaria Radio\n10.00 a 13.00 horas \nPatio Convento de los Padres Dominicos \nAnuncio del sorteo #EstaEsTuRadio del mes de enero \nComunicación
URL:https://nueva.candelaria.es/event/programa-especial-de-candelaria-radio/
CATEGORIES:Alcaldía
ATTACH;FMTTYPE=image/jpeg:https://nueva.candelaria.es/wp-content/uploads/Agenda-Enero-2021-Pantallas-11.jpg
END:VEVENT
BEGIN:VEVENT
DTSTART;TZID=Europe/London:20210127T090000
DTEND;TZID=Europe/London:20210127T170000
DTSTAMP:20260422T200900
CREATED:20210121T132105Z
LAST-MODIFIED:20210121T132105Z
UID:16650-1611738000-1611766800@nueva.candelaria.es
SUMMARY:Programa Smart-Eco para i-Emprendedores
DESCRIPTION:La economía digital es un ecosistema de 2\,5 trillones de euros (22\,5% de la economía mundial) repleto de oportunidades. En 2018 nacieron en España un total de 4.115 start-ups\, de las cuales un 80% nacieron globales.  ¿Y si tu idea de negocio fuera la próxima? El PROGRAMA SMART-ECO PARA i-EMPRENDEDORES de Candelaria ayudará\, con un enfoque práctico y totalmente gratuito\, a 20 i-Emprendedores del municipio a diseñar su Plan de Negocio y hacer realidad su sueño siguiendo la metodología ISUN “Inicie su Negocio”\, uno de los programas de formación en emprendimiento y gestión empresarial más exitoso en el mundo. En la actualidad se han formado a más de 15 millones de emprendedores en todo el mundo con la metodología IMESUN. \n¿Quieres ser uno de ellos? Inscríbete en el siguiente link https://www.survio.com/survey/d/K7G/candelaria conocer de qué trata tu negocio\, y poder ser uno de los seleccionados. \nObjetivo ayudarte a diseñar tu Plan de negocio y hacer realidad tu sueño.\nDirigido a: i-Emprendedores (emprendedores y emprendedoras con una idea de negocio innovadora y/o tecnológica/digital) \nContenidos\n\n80 horas de formación en la metodología ISUN.\nAcompañamiento a 10 emprendedores seleccionados durante 6 meses mediante sesiones de coaching\nCelebración de un congreso de emprendeduría tecnológica para la presentación de resultados.\n\nQué ofrecemos\n\nFormadores acreditados\nFormación basada en juegos y dinámicas de grupo\, con un manual del emprendedor que los participantes van rellenando paso a paso.\nLa formación ISUN está diseñada para asistir a los emprendedores en:\n\n\nCompetencias del emprendedor\nIdea de Negocio\nPlan de Negocio\nEstudio de Mercado\nPlan de Marketing\nFormas jurídicas.\nOrganización\nCostes.\nCapital inicial y fuentes de financiación.\nPlan financiero.\nPlan de acción.\n\nInicio y fin\n\nParte I. 01/03/2021 – 08/03/2021. 9:00 H. – 14:00 H. (Presencial – CTCAN)\nParte II. 09/03/2021 – 22/03/2021. 9:00 H. – 14:00 H.  (On-line – Google Meets)\n\nInscríbete aquí: https://www.survio.com/survey/d/emprendimientocandelaria \n¿QUIERES SABER MÁS?\n El próximo 27 de enero celebramos el Seminario Virtual de Presentación del Programa SMART-ECO para i-Emprendedores. ¿Te apuntas? Te presentaremos\, además: 1) experiencias reales de otros emprendedores de Candelaria\, 2) el Servicio de Apoyo al Emprendedor del Ayuntamiento\, y 3) el proyecto SMART-ECO.\nTe mandaremos el link de acceso al correo electrónico que nos has dejado en la inscripción. \nFecha: 27 de enero de 2021 \nHora: 09:00 H. a 11:00 H.
URL:https://nueva.candelaria.es/event/programa-smart-eco-para-i-emprendedores/
CATEGORIES:Alcaldía
ATTACH;FMTTYPE=image/png:https://nueva.candelaria.es/wp-content/uploads/Convertir-slide.png
END:VEVENT
BEGIN:VEVENT
DTSTART;TZID=Europe/London:20210126T180000
DTEND;TZID=Europe/London:20210126T200000
DTSTAMP:20260422T200900
CREATED:20210112T143054Z
LAST-MODIFIED:20210112T143054Z
UID:16455-1611684000-1611691200@nueva.candelaria.es
SUMMARY:Rincón literario
DESCRIPTION:Rincón literario\nEspacio para fomentar y compartir habilidades literarias creativas \nZona Joven Punta Larga
URL:https://nueva.candelaria.es/event/rincon-literario-3/
CATEGORIES:Juventud
ATTACH;FMTTYPE=image/jpeg:https://nueva.candelaria.es/wp-content/uploads/Agenda-Enero-2021-Pantallas-10.jpg
END:VEVENT
BEGIN:VEVENT
DTSTART;TZID=Europe/London:20210123T103000
DTEND;TZID=Europe/London:20210123T140000
DTSTAMP:20260422T200900
CREATED:20210107T111453Z
LAST-MODIFIED:20210107T121705Z
UID:16336-1611397800-1611410400@nueva.candelaria.es
SUMMARY:Bebecuentos con Laura Escuela
DESCRIPTION:Bebecuentos con Laura Escuela\nSábado 23. 10.30 y 12.00 \nCentro Cultural de La Villa. \nPara bebés de 0 a 36 meses. \nImprescindible inscripción previa en el Ayuntamiento Viejo. Tf 922 500 530 \n10 plazas por cada sesión. \nColabora: Cabildo de Tenerife. \nCultura
URL:https://nueva.candelaria.es/event/bebecuentos-con-laura-escuela-3/
CATEGORIES:Cultura
ATTACH;FMTTYPE=image/jpeg:https://nueva.candelaria.es/wp-content/uploads/Ayuntamiento-Viejo-1.jpg
END:VEVENT
BEGIN:VEVENT
DTSTART;TZID=Europe/London:20210122T170000
DTEND;TZID=Europe/London:20210122T180000
DTSTAMP:20260422T200900
CREATED:20210107T121956Z
LAST-MODIFIED:20210108T084607Z
UID:16342-1611334800-1611338400@nueva.candelaria.es
SUMMARY:Inauguración exposición Diferenciarte. La Juventud de Candelaria expresa su arte
DESCRIPTION:Inauguración exposición Diferenciarte. La Juventud de Candelaria expresa su arte\nZona Joven Punta Larga. \nViernes 22. 17.00 \nHasta el 19 de febrero. 16.00 a 20.00 h. \nPresentación de dibujos\, fotografías y relatos literarios hasta el 19 de enero.
URL:https://nueva.candelaria.es/event/inauguracion-exposicion-diferenciarte-la-juventud-de-candelaria-expresa-su-arte/
CATEGORIES:Juventud
ATTACH;FMTTYPE=image/jpeg:https://nueva.candelaria.es/wp-content/uploads/Mural-Zona-Joven-febrero-2020-4.jpeg
END:VEVENT
BEGIN:VEVENT
DTSTART;TZID=Europe/London:20210120T180000
DTEND;TZID=Europe/London:20210120T203000
DTSTAMP:20260422T200900
CREATED:20210107T111106Z
LAST-MODIFIED:20210107T111106Z
UID:16333-1611165600-1611174600@nueva.candelaria.es
SUMMARY:Cinefórum: "Amélie"
DESCRIPTION:CINEFÓRUM: “AMÊLIE”\, DE JEAN-PIERRE JEUNET (2001)\nZona Joven Punta Larga. \nMiércoles 20. 18.00 \nProyección y charla con el actor NORBERTO TRUJILLO y la periodista SOFÍA RAMOS. \nCoordina: 35 MILÍMETROS
URL:https://nueva.candelaria.es/event/cineforum-amelie/
CATEGORIES:Cultura
ATTACH;FMTTYPE=image/jpeg:https://nueva.candelaria.es/wp-content/uploads/Am_lie-848337470-large.jpg
END:VEVENT
BEGIN:VEVENT
DTSTART;TZID=Europe/London:20210116T200000
DTEND;TZID=Europe/London:20210116T220000
DTSTAMP:20260422T200900
CREATED:20210107T113559Z
LAST-MODIFIED:20210108T110936Z
UID:16339-1610827200-1610834400@nueva.candelaria.es
SUMMARY:Concierto Iván Cacú
DESCRIPTION:Concierto de Iván Cacú\nSábado 16. 20.00 \nEspacio Cultural Cine Viejo. \nEspectáculo “Una canción\, una historia”. \nCultura.
URL:https://nueva.candelaria.es/event/concierto-ivan-cacu/
CATEGORIES:Cultura
ATTACH;FMTTYPE=image/jpeg:https://nueva.candelaria.es/wp-content/uploads/Ivan-Cacu.jpg
END:VEVENT
BEGIN:VEVENT
DTSTART;TZID=Europe/London:20210113T000000
DTEND;TZID=Europe/London:20210113T000000
DTSTAMP:20260422T200900
CREATED:20210113T112713Z
LAST-MODIFIED:20210113T114824Z
UID:16471-1610496000-1610496000@nueva.candelaria.es
SUMMARY:Bebecuentos con Isabel Bolívar
DESCRIPTION:Bebecuentos con Isabel Bolívar\nCentro Cultural de La Villa.\nPara bebés de 6 a 36 meses.\nImprescindible inscripción previa en el Ayuntamiento Viejo 922 500 530\n10 plazas por cada sesión.\nColabora: Cabildo de Tenerife.\n12.00 y 13.00 h
URL:https://nueva.candelaria.es/event/bebecuentos-con-isabel-bolivar-3/
CATEGORIES:Cultura
ATTACH;FMTTYPE=image/jpeg:https://nueva.candelaria.es/wp-content/uploads/bebecuentos30enero.jpg
END:VEVENT
BEGIN:VEVENT
DTSTART;TZID=Europe/London:20210109T090000
DTEND;TZID=Europe/London:20210109T210000
DTSTAMP:20260422T200900
CREATED:20210107T104949Z
LAST-MODIFIED:20210107T104949Z
UID:16326-1610182800-1610226000@nueva.candelaria.es
SUMMARY:Inicio del horario extraordinario por exámenes universitarios
DESCRIPTION:Inicio del horario extraordinario por exámenes universitarios\nBiblioteca de La Villa. \nSábados y domingos. 9.00 a 14.00 y 16.00 a 21.00 h. \nCultura
URL:https://nueva.candelaria.es/event/inicio-del-horario-extraordinario-por-examenes-universitarios/
CATEGORIES:Cultura
ATTACH;FMTTYPE=image/jpeg:https://nueva.candelaria.es/wp-content/uploads/2020/04/biblioteca_de_la_villa.jpg
END:VEVENT
BEGIN:VEVENT
DTSTART;TZID=Europe/London:20210107T080000
DTEND;TZID=Europe/London:20210107T170000
DTSTAMP:20260422T200900
CREATED:20210107T105339Z
LAST-MODIFIED:20210107T113334Z
UID:16330-1610006400-1610038800@nueva.candelaria.es
SUMMARY:Inicio curso de actividades auxiliares de comercio para desempleados
DESCRIPTION:Inicio curso de actividades auxiliares de comercio para desempleados\nAulas de Los Menceyes. \nHasta el 10 de marzo de 2021. Inscripción: SAC ADL. \nEmpleo y Desarrollo Local \nMás información 922 500 800 extensión 1193 \n 
URL:https://nueva.candelaria.es/event/inicio-curso-de-actividades-auxiliares-de-comercio-para-desempleados/
CATEGORIES:Promoción económica y Empleo
ATTACH;FMTTYPE=image/jpeg:https://nueva.candelaria.es/wp-content/uploads/Formacion-para-el-empleo-ENERO-2021-FACEBOOK.jpg
END:VEVENT
BEGIN:VEVENT
DTSTART;TZID=Europe/London:20210107T080000
DTEND;TZID=Europe/London:20210107T170000
DTSTAMP:20260422T200900
CREATED:20210107T105129Z
LAST-MODIFIED:20210107T105129Z
UID:16328-1610006400-1610038800@nueva.candelaria.es
SUMMARY:Inicio del curso de actividades auxiliares de comercio para desempleados
DESCRIPTION:INICIO DEL CURSO DE ACTIVIDADES AUXILIARES DE COMERCIO PARA DESEMPLEADOS. \nAulas de Los Menceyes. \nHasta el 10 de marzo de 2021. Inscripción: SAC ADL. \n\nEmpleo y Desarrollo Local\n\n 
URL:https://nueva.candelaria.es/event/inicio-del-curso-de-actividades-auxiliares-de-comercio-para-desempleados/
END:VEVENT
BEGIN:VEVENT
DTSTART;TZID=Europe/London:20210105T160000
DTEND;TZID=Europe/London:20210105T203000
DTSTAMP:20260422T200900
CREATED:20201209T110144Z
LAST-MODIFIED:20201209T110144Z
UID:16013-1609862400-1609878600@nueva.candelaria.es
SUMMARY:Día de Reyes
DESCRIPTION:Atención a las redes sociales del Ayuntamiento\, porque durante la mañana y la tarde sucederán\nacontecimientos mágicos previos al recorrido de los Reyes Magos.\n16.00 h. Redes sociales del Ayuntamiento.\nRECEPCIÓN DE SUS MAJESTADES POR PARTE DE LAS\nAUTORIDADES.\n16.00 h. Diversas zonas del municipio.\nPASACALLE Y ESTRUENDO DE BATUCADAS CON\nTROPICANA\, ALMAGEC Y TROPICANA INFANTIL.\n16.00 h. Diversas zonas de Igueste.\nPASACALLE DE LA NUEVA\nBANDA DE IGUESTE.\n16.30 a 20.00 h. Principales calles de todos los pueblos de Candelaria: Barranco Hondo\,\nIgueste\, Araya\, Las Cuevecitas\, Malpaís\, Playa La Viuda\, Santa Ana\, Candelaria Casco\,\nPunta Larga y Las Caletillas. \nRECORRIDO DE SS.MM. LOS REYES MAGOS DE ORIENTE.\nLos Pajes comunicarán el itinerario con el horario y recorrido concreto que\nse hará en cada zona del municipio para que los niños puedan ver a los\nReyes\, principalmente\, desde puertas\, ventanas\,\nbalcones y azoteas\, o acercándose a algún\npunto del recorrido\, cumpliendo con la\ndistancia social\, si su domicilio no\ncoincidiera con el paso de la comitiva.\nSe apela a la responsabilidad\nde todos para evitar aglomeraciones.
URL:https://nueva.candelaria.es/event/dia-de-reyes/
CATEGORIES:Alcaldía,Cultura
ATTACH;FMTTYPE=image/png:https://nueva.candelaria.es/wp-content/uploads/xxx.png
END:VEVENT
BEGIN:VEVENT
DTSTART;TZID=Europe/London:20210104T170000
DTEND;TZID=Europe/London:20210104T190000
DTSTAMP:20260422T200900
CREATED:20201209T091556Z
LAST-MODIFIED:20210102T121816Z
UID:15982-1609779600-1609786800@nueva.candelaria.es
SUMMARY:APLAZADO. Desfile jurásico
DESCRIPTION:DESFILE JURÁSICO. Los dinosaurios invaden Candelaria en un pasacalle con la BANDA DE MÚSICA LAS CANDELAS. 17.00 h. Paseo Marítimo de Punta Larga. 18.00 h. Rambla Los Menceyes. \nAtendiendo al nivel de 3 en el que se encuentra la isla de Tenerife por la crisis sanitaria este evento ha sido aplazado.
URL:https://nueva.candelaria.es/event/desfile-jurasico/
LOCATION:Paseo Marítimo de Punta Larga
CATEGORIES:Cultura
ATTACH;FMTTYPE=image/jpeg:https://nueva.candelaria.es/wp-content/uploads/dinosauriosaplazado.jpg
END:VEVENT
BEGIN:VEVENT
DTSTART;TZID=Europe/London:20210103T120000
DTEND;TZID=Europe/London:20210103T140000
DTSTAMP:20260422T200900
CREATED:20201207T120530Z
LAST-MODIFIED:20201207T120530Z
UID:15975-1609675200-1609682400@nueva.candelaria.es
SUMMARY:Fantasy Show de Año Nuevo
DESCRIPTION:Fantasy Show de Año Nuevo \nSábado 2 de enero.\n18.00 h.\nDomingo 3.\n12.00 h.\nEspacio Cultural Cine Viejo.
URL:https://nueva.candelaria.es/event/fantasy-show-de-ano-nuevo-2/
CATEGORIES:Cultura
ATTACH;FMTTYPE=image/jpeg:https://nueva.candelaria.es/wp-content/uploads/FANTASY-2-Y-3-ENERO.jpg
END:VEVENT
BEGIN:VEVENT
DTSTART;TZID=Europe/London:20210102T180000
DTEND;TZID=Europe/London:20210102T200000
DTSTAMP:20260422T200900
CREATED:20201207T120448Z
LAST-MODIFIED:20201207T120448Z
UID:15972-1609610400-1609617600@nueva.candelaria.es
SUMMARY:Fantasy Show de Año Nuevo
DESCRIPTION:Fantasy Show de Año Nuevo \nSábado 2 de enero.\n18.00 h.\nDomingo 3.\n12.00 h.\nEspacio Cultural Cine Viejo.
URL:https://nueva.candelaria.es/event/fantasy-show-de-ano-nuevo/
CATEGORIES:Cultura
ATTACH;FMTTYPE=image/jpeg:https://nueva.candelaria.es/wp-content/uploads/FANTASY-2-Y-3-ENERO.jpg
END:VEVENT
BEGIN:VEVENT
DTSTART;TZID=Europe/London:20201230T200000
DTEND;TZID=Europe/London:20201230T220000
DTSTAMP:20260422T200900
CREATED:20201207T115641Z
LAST-MODIFIED:20201207T115641Z
UID:15966-1609358400-1609365600@nueva.candelaria.es
SUMMARY:The Revelation Romantic Big Band
DESCRIPTION:The Revelation Romantic Big Band \nMiércoles 30.\n20.00 h. Espacio Cultural Cine Viejo.\nDespedida del año y presentación de la programación del Cine Viejo para 2021.
URL:https://nueva.candelaria.es/event/the-revelation-romantic-big-band/
CATEGORIES:Cultura
ATTACH;FMTTYPE=image/jpeg:https://nueva.candelaria.es/wp-content/uploads/REVELATION-ROMANTIC.jpg
END:VEVENT
BEGIN:VEVENT
DTSTART;TZID=Europe/London:20201228T180000
DTEND;TZID=Europe/London:20201228T200000
DTSTAMP:20260422T200900
CREATED:20201209T100032Z
LAST-MODIFIED:20201209T100032Z
UID:16000-1609178400-1609185600@nueva.candelaria.es
SUMMARY:Cinefórum 'La invensión de Hugo'
DESCRIPTION:18.00 h. Zona Joven Punta Larga.\nESPECIAL CINEFÓRUM “LOS HERMANOS\nLUMIERE. 125 AÑOS DE LA PRIMERA\nPROYECCIÓN DE CINE COMERCIAL”.\nProyección de la película “La invensión de Hugo”\,\nde Martin Scorsese (2011) y charla con el actor\nNORBERTO TRUJILLO y la periodista de cine\nSOFÍA RAMOS.\nCoordina: 35 MILÍMETROS.
URL:https://nueva.candelaria.es/event/cineforum-la-invension-de-hugo/
LOCATION:Zona Joven de Punta Larga\, Calle Pasacola\, 3\, España
CATEGORIES:Cultura
ATTACH;FMTTYPE=image/jpeg:https://nueva.candelaria.es/wp-content/uploads/1366_2000.jpg
END:VEVENT
BEGIN:VEVENT
DTSTART;TZID=Europe/London:20201226T190000
DTEND;TZID=Europe/London:20201226T200000
DTSTAMP:20260422T200900
CREATED:20201207T114357Z
LAST-MODIFIED:20201207T114357Z
UID:15961-1609009200-1609012800@nueva.candelaria.es
SUMMARY:Coral Villa de Candelaria "Voces para la esperanza"
DESCRIPTION:Coral Villa de Candelaria «Voces para la esperanza» \nSábados 12\, 19 y 26.\n19.00 h. Basílica de Candelaria.
URL:https://nueva.candelaria.es/event/coral-villa-de-candelaria-voces-para-la-esperanza-3/
CATEGORIES:Cultura
ATTACH;FMTTYPE=image/jpeg:https://nueva.candelaria.es/wp-content/uploads/CORAL.jpg
END:VEVENT
BEGIN:VEVENT
DTSTART;TZID=Europe/London:20201221T183000
DTEND;TZID=Europe/London:20201221T210000
DTSTAMP:20260422T200900
CREATED:20201209T093028Z
LAST-MODIFIED:20201209T093028Z
UID:15990-1608575400-1608584400@nueva.candelaria.es
SUMMARY:Ronda de Lo Divino de la Agrupación Folklórica Chajoigo
DESCRIPTION:18.30 h. Calles de Barranco Hondo.\nRONDA DE LO DIVINO DE LA AGRUPACIÓN\nFOLKLÓRICA CHAJOIGO.
URL:https://nueva.candelaria.es/event/ronda-de-lo-divino-de-la-agrupacion-folklorica-chajoigo/
LOCATION:Barranco Hondo
CATEGORIES:Cultura
ATTACH;FMTTYPE=image/jpeg:https://nueva.candelaria.es/wp-content/uploads/129444426_1790183737811990_1137088175230165258_n.jpg
END:VEVENT
BEGIN:VEVENT
DTSTART;TZID=Europe/London:20201221T080000
DTEND;TZID=Europe/London:20201221T120000
DTSTAMP:20260422T200900
CREATED:20201209T103356Z
LAST-MODIFIED:20201209T103419Z
UID:16007-1608537600-1608552000@nueva.candelaria.es
SUMMARY:Programa Mirando al sur y La carretera del sur de Onda Tenerife
DESCRIPTION:8.00 a 12.00 h. Candelaria Radio.\nPROGRAMAS ‘MIRANDO AL SUR’ Y ‘LA\nCARRETERA DEL SUR’ DE ONDA TENERIFE.\nCon CRISTIAN LUIS\, JAVIER FEO Y NORBERTO\nCHIJEB. \n19.00 h. Mírame TV.\nLO + COOL EN NAVIDAD.\nDesfile de moda y complementos de los comercios\nde Candelaria.
URL:https://nueva.candelaria.es/event/programa-mirando-al-sur-y-la-carretera-del-sur-de-onda-tenerife/
CATEGORIES:Alcaldía
ATTACH;FMTTYPE=image/jpeg:https://nueva.candelaria.es/wp-content/uploads/j_dK2xzc_400x400.jpg
END:VEVENT
BEGIN:VEVENT
DTSTART;TZID=Europe/London:20201220T180000
DTEND;TZID=Europe/London:20201220T200000
DTSTAMP:20260422T200900
CREATED:20201207T114713Z
LAST-MODIFIED:20201207T114726Z
UID:15963-1608487200-1608494400@nueva.candelaria.es
SUMMARY:Antón Guanche e Igonce. Folklore y villancicos tradicionales
DESCRIPTION:Antón Guanche e Igonce. Folklore y villancicos tradicionales\nDomingo 20.\n18.00 h. Espacio Cultural Cine Viejo.
URL:https://nueva.candelaria.es/event/anton-guanche-e-igonce-folklore-y-villancicos-tradicionales/
CATEGORIES:Cultura
ATTACH;FMTTYPE=image/jpeg:https://nueva.candelaria.es/wp-content/uploads/ENCUENTRO-VILLANCICOS-20-DIC.jpg
END:VEVENT
BEGIN:VEVENT
DTSTART;TZID=Europe/London:20201219T200000
DTEND;TZID=Europe/London:20201219T220000
DTSTAMP:20260422T200900
CREATED:20201207T120104Z
LAST-MODIFIED:20201207T120301Z
UID:15969-1608408000-1608415200@nueva.candelaria.es
SUMMARY:Christmas Rock
DESCRIPTION:Christmas Rock \nSábado 19.\n20.00 h. Espacio Cultural Cine Viejo.\nLas mejores versiones navideñas de todos los tiempos.
URL:https://nueva.candelaria.es/event/christmas-rock/
CATEGORIES:Cultura
ATTACH;FMTTYPE=image/jpeg:https://nueva.candelaria.es/wp-content/uploads/Christmas-ROCK-19-DIC.jpg
END:VEVENT
BEGIN:VEVENT
DTSTART;TZID=Europe/London:20201219T190000
DTEND;TZID=Europe/London:20201219T200000
DTSTAMP:20260422T200900
CREATED:20201207T113901Z
LAST-MODIFIED:20201207T113910Z
UID:15959-1608404400-1608408000@nueva.candelaria.es
SUMMARY:Coral Villa de Candelaria "Voces para la esperanza"
DESCRIPTION:Coral Villa de Candelaria «Voces para la esperanza» \nSábados 12\, 19 y 26.\n19.00 h. Basílica de Candelaria.
URL:https://nueva.candelaria.es/event/coral-villa-de-candelaria-voces-para-la-esperanza-2/
CATEGORIES:Cultura
ATTACH;FMTTYPE=image/jpeg:https://nueva.candelaria.es/wp-content/uploads/CORAL.jpg
END:VEVENT
BEGIN:VEVENT
DTSTART;TZID=Europe/London:20201217T180000
DTEND;TZID=Europe/London:20201217T190000
DTSTAMP:20260422T200900
CREATED:20201209T103113Z
LAST-MODIFIED:20201209T103113Z
UID:16004-1608228000-1608231600@nueva.candelaria.es
SUMMARY:Charla Aprender a beber vino
DESCRIPTION:18.00 h. Formación online.\nCHARLA “APRENDER A BEBER VINO” A\nCARGO DE D. NICOLÁS BOADA.\nReserva de plazas en\ndesarrollorural@candelaria.es.
URL:https://nueva.candelaria.es/event/charla-aprender-a-beber-vino/
CATEGORIES:Medio ambiente natural
ATTACH;FMTTYPE=image/jpeg:https://nueva.candelaria.es/wp-content/uploads/Drink-Wine-Step-4-Version-2.jpg
END:VEVENT
BEGIN:VEVENT
DTSTART;TZID=Europe/London:20201216T170000
DTEND;TZID=Europe/London:20201221T180000
DTSTAMP:20260422T200900
CREATED:20201204T161004Z
LAST-MODIFIED:20201204T161048Z
UID:15914-1608138000-1608573600@nueva.candelaria.es
SUMMARY:Talleres de manualidades navideñas
DESCRIPTION:17.30 h. Red municipal de Bibliotecas.\nAraya: miércoles 2 y 16 de diciembre.\nBarranco Hondo: jueves 3.\nLas Caletillas: Viernes 18.\nIgueste: Lunes 21.
URL:https://nueva.candelaria.es/event/talleres-de-manualidades-navidenas/
CATEGORIES:Cultura
ATTACH;FMTTYPE=image/jpeg:https://nueva.candelaria.es/wp-content/uploads/MANUALIDADES-4-DIC.jpg
END:VEVENT
BEGIN:VEVENT
DTSTART;TZID=Europe/London:20201216T080000
DTEND;TZID=Europe/London:20210109T200000
DTSTAMP:20260422T200900
CREATED:20201209T092749Z
LAST-MODIFIED:20201209T092749Z
UID:15986-1608105600-1610222400@nueva.candelaria.es
SUMMARY:Exposición: ¿dónde están mis juguetes?
DESCRIPTION:8.00 h. Espacio Cultural Ayuntamiento Viejo.\nAPERTURA DE LA EXPOSICIÓN “¿DÓNDE\nESTÁN MIS JUGUETES? PEQUEÑOS OBJETOS\nARTESANALES. FUENTE DE ALEGRÍA Y\nLIBERTAD”.\nHasta el 9 de enero. 8.00 a 14.00 y 16.00 a 20.00 h.\nColabora: MUSEO DE ARTESANÍA\nIBEROAMERICANA DEL CABILDO DE TENERIFE.
URL:https://nueva.candelaria.es/event/exposicion-donde-estan-mis-juguetes/
LOCATION:Espacio Cultural Ayuntamiento Viejo
CATEGORIES:Cultura
ATTACH;FMTTYPE=image/jpeg:https://nueva.candelaria.es/wp-content/uploads/1-1.jpg
END:VEVENT
BEGIN:VEVENT
DTSTART;TZID=Europe/London:20201215T100000
DTEND;TZID=Europe/London:20201215T103000
DTSTAMP:20260422T200900
CREATED:20201209T095136Z
LAST-MODIFIED:20201209T095136Z
UID:15996-1608026400-1608028200@nueva.candelaria.es
SUMMARY:Taller de elaboración de truchas artesanales en familia
DESCRIPTION:10.00 h. Redes sociales del Ayuntamiento.\nTALLER DE ELABORACIÓN DE TRUCHAS\nARTESANALES EN FAMILIA.\nVídeo tutorial.
URL:https://nueva.candelaria.es/event/taller-de-elaboracion-de-truchas-artesanales-en-familia/
LOCATION:Redes sociales del Ayuntamiento
CATEGORIES:Cultura
ATTACH;FMTTYPE=image/jpeg:https://nueva.candelaria.es/wp-content/uploads/TRUCHAS-15-DIC.jpg
END:VEVENT
BEGIN:VEVENT
DTSTART;TZID=Europe/London:20201213T120000
DTEND;TZID=Europe/London:20201213T140000
DTSTAMP:20260422T200900
CREATED:20201202T141116Z
LAST-MODIFIED:20201202T141116Z
UID:15844-1607860800-1607868000@nueva.candelaria.es
SUMMARY:Teatro Infantil "Una de Macarroni"
DESCRIPTION:Teatro Infantil «Una de Macarroni» \n12.00 h. Espacio Cultural Cine Viejo. \nCompañía CLOWNBARET.\nColabora: TENERIFE ARTES ESCÉNICAS Y CANARIAS CULTURA EN RED.
URL:https://nueva.candelaria.es/event/teatro-infantil-una-de-macarroni/
CATEGORIES:Cultura
ATTACH;FMTTYPE=image/jpeg:https://nueva.candelaria.es/wp-content/uploads/MACARRONI-13-DIC.jpg
END:VEVENT
BEGIN:VEVENT
DTSTART;TZID=Europe/London:20201212T190000
DTEND;TZID=Europe/London:20201212T200000
DTSTAMP:20260422T200900
CREATED:20201207T113817Z
LAST-MODIFIED:20201207T113817Z
UID:15956-1607799600-1607803200@nueva.candelaria.es
SUMMARY:Coral Villa de Candelaria "Voces para la esperanza"
DESCRIPTION:Coral Villa de Candelaria «Voces para la esperanza» \nSábados 12\, 19 y 26.\n19.00 h. Basílica de Candelaria.
URL:https://nueva.candelaria.es/event/coral-villa-de-candelaria-voces-para-la-esperanza/
CATEGORIES:Cultura
ATTACH;FMTTYPE=image/jpeg:https://nueva.candelaria.es/wp-content/uploads/CORAL.jpg
END:VEVENT
BEGIN:VEVENT
DTSTART;TZID=Europe/London:20201212T120000
DTEND;TZID=Europe/London:20201212T130000
DTSTAMP:20260422T200900
CREATED:20201204T161616Z
LAST-MODIFIED:20201204T161616Z
UID:15917-1607774400-1607778000@nueva.candelaria.es
SUMMARY:Presentación del libro infantil 'Parque drac. animalario fantástico de poesía y travesuras de Lady Dragón
DESCRIPTION:Cuentacuentos de animales\, poemas y carrera con ranas saltarinas.\nImprescindible inscripción previa en la Biblioteca de La Villa (922 956 210).
URL:https://nueva.candelaria.es/event/presentacion-del-libro-infantil-parque-drac-animalario-fantastico-de-poesia-y-travesuras-de-lady-dragon/
CATEGORIES:Cultura
ATTACH;FMTTYPE=image/jpeg:https://nueva.candelaria.es/wp-content/uploads/LIBRO-PARQUE-DRAC.jpg
END:VEVENT
END:VCALENDAR