BEGIN:VCALENDAR
VERSION:2.0
PRODID:-//Candelaria - ECPv6.15.6//NONSGML v1.0//EN
CALSCALE:GREGORIAN
METHOD:PUBLISH
X-WR-CALNAME:Candelaria
X-ORIGINAL-URL:https://nueva.candelaria.es
X-WR-CALDESC:Eventos para Candelaria
REFRESH-INTERVAL;VALUE=DURATION:PT1H
X-Robots-Tag:noindex
X-PUBLISHED-TTL:PT1H
BEGIN:VTIMEZONE
TZID:Europe/London
BEGIN:DAYLIGHT
TZOFFSETFROM:+0000
TZOFFSETTO:+0100
TZNAME:BST
DTSTART:20190331T010000
END:DAYLIGHT
BEGIN:STANDARD
TZOFFSETFROM:+0100
TZOFFSETTO:+0000
TZNAME:GMT
DTSTART:20191027T010000
END:STANDARD
BEGIN:DAYLIGHT
TZOFFSETFROM:+0000
TZOFFSETTO:+0100
TZNAME:BST
DTSTART:20200329T010000
END:DAYLIGHT
BEGIN:STANDARD
TZOFFSETFROM:+0100
TZOFFSETTO:+0000
TZNAME:GMT
DTSTART:20201025T010000
END:STANDARD
BEGIN:DAYLIGHT
TZOFFSETFROM:+0000
TZOFFSETTO:+0100
TZNAME:BST
DTSTART:20210328T010000
END:DAYLIGHT
BEGIN:STANDARD
TZOFFSETFROM:+0100
TZOFFSETTO:+0000
TZNAME:GMT
DTSTART:20211031T010000
END:STANDARD
END:VTIMEZONE
BEGIN:VEVENT
DTSTART;TZID=Europe/London:20201024T213000
DTEND;TZID=Europe/London:20201024T230000
DTSTAMP:20260423T072618
CREATED:20201014T083501Z
LAST-MODIFIED:20201014T083725Z
UID:15141-1603575000-1603580400@nueva.candelaria.es
SUMMARY:Recital Quinteto Hamelín
DESCRIPTION:Recital Quinteto Hamelín\, con las voces de Candelaria González y Héctor González \n21.30 horas \nEspacio Cultural Cine Viejo \nEntrada gratuita
URL:https://nueva.candelaria.es/event/recital-quinteto-hamelin/
CATEGORIES:Cultura
ATTACH;FMTTYPE=image/jpeg:https://nueva.candelaria.es/wp-content/uploads/Agenda-Octubre-2020-Pantallas-29-1.jpg
END:VEVENT
BEGIN:VEVENT
DTSTART;TZID=Europe/London:20201024T200000
DTEND;TZID=Europe/London:20201024T220000
DTSTAMP:20260423T072618
CREATED:20201008T115527Z
LAST-MODIFIED:20201008T115709Z
UID:15101-1603569600-1603576800@nueva.candelaria.es
SUMMARY:Ruta juvenil "Noche de estrellas" en el Parque Nacional del Teide
DESCRIPTION:Salida desde Zona Joven Punta Larga. \nInscripción: zonajoven@candelaria.es \n#CandelariaEsJuventud
URL:https://nueva.candelaria.es/event/ruta-juvenil-noche-de-estrellas-en-el-parque-nacional-del-teide/
CATEGORIES:Juventud
ATTACH;FMTTYPE=image/jpeg:https://nueva.candelaria.es/wp-content/uploads/Agenda-Octubre-2020-Pantallas-18.jpg
END:VEVENT
BEGIN:VEVENT
DTSTART;TZID=Europe/London:20201024T193000
DTEND;TZID=Europe/London:20201024T210000
DTSTAMP:20260423T072618
CREATED:20201008T120124Z
LAST-MODIFIED:20201008T141445Z
UID:15104-1603567800-1603573200@nueva.candelaria.es
SUMMARY:Celebración de Santa Rita. Araya
DESCRIPTION:Solemne función religiosa en la Parroquia.
URL:https://nueva.candelaria.es/event/celebracion-de-santa-rita-araya/
CATEGORIES:Relaciones institucionales y protocolo
ATTACH;FMTTYPE=image/jpeg:https://nueva.candelaria.es/wp-content/uploads/Agenda-Octubre-2020-Pantallas-19.jpg
END:VEVENT
BEGIN:VEVENT
DTSTART;TZID=Europe/London:20201022T150000
DTEND;TZID=Europe/London:20201022T200000
DTSTAMP:20260423T072618
CREATED:20201008T115312Z
LAST-MODIFIED:20201008T115345Z
UID:15097-1603378800-1603396800@nueva.candelaria.es
SUMMARY:Inicio de curso de montaje y postproducción de audiovisuales
DESCRIPTION:Curso de Formación para el Empleo (FPE) \nAulas de Los Menceyes. \nInscripciones: fpe@candelar \nServicio Canario de Empleo
URL:https://nueva.candelaria.es/event/inicio-de-curso-de-montaje-y-postproduccion-de-audiovisuales/
LOCATION:Aulas de Los Menceyes\, España
CATEGORIES:Promoción económica y Empleo
ATTACH;FMTTYPE=image/jpeg:https://nueva.candelaria.es/wp-content/uploads/Inicio-PFE-produccion-y-montaje-1.jpg
END:VEVENT
BEGIN:VEVENT
DTSTART;TZID=Europe/London:20201021T080000
DTEND;TZID=Europe/London:20201021T170000
DTSTAMP:20260423T072618
CREATED:20201008T114645Z
LAST-MODIFIED:20201008T115013Z
UID:15094-1603267200-1603299600@nueva.candelaria.es
SUMMARY:Curso de manipulador de alimentos de alto riesgo
DESCRIPTION:Formación profesional pesquera dirigida a la Cofradía de Pescadores Nuestra Señora de Candelaria. \n21 y 22 de octubre \n 
URL:https://nueva.candelaria.es/event/curso-de-manipulador-de-alimentos-de-alto-riesgo/
CATEGORIES:Desarrollo rural y pesquero
ATTACH;FMTTYPE=image/jpeg:https://nueva.candelaria.es/wp-content/uploads/Agenda-Octubre-2020-Pantallas-16.jpg
END:VEVENT
BEGIN:VEVENT
DTSTART;TZID=Europe/London:20201019T163000
DTEND;TZID=Europe/London:20201019T200000
DTSTAMP:20260423T072618
CREATED:20201008T113820Z
LAST-MODIFIED:20201008T114205Z
UID:15091-1603125000-1603137600@nueva.candelaria.es
SUMMARY:Curso de extensión universitaria: viabilidad de proyectos y empresas
DESCRIPTION:Formación\nEmpleo y Desarrollo Local\nDel 19 al 21 de octubre\n16.30 CTCAN. Polígono de Güímar. \nInscripción \n 
URL:https://nueva.candelaria.es/event/curso-de-extension-universitaria-viabilidad-de-proyectos-y-empresas/
CATEGORIES:Promoción económica y Empleo
ATTACH;FMTTYPE=image/jpeg:https://nueva.candelaria.es/wp-content/uploads/Cursos-extension-ULL-Viabilidad.jpg
END:VEVENT
BEGIN:VEVENT
DTSTART;TZID=Europe/London:20201018T080000
DTEND;TZID=Europe/London:20201018T200000
DTSTAMP:20260423T072618
CREATED:20201008T113517Z
LAST-MODIFIED:20201016T132149Z
UID:15088-1603008000-1603051200@nueva.candelaria.es
SUMMARY:40 º Aniversario de la Bajada del Lagar de la Mesa de Igueste
DESCRIPTION:Lunes 19: Apertura del mural artístico sobre la 19 Bajada en el hall del Espacio Cultural de Igueste \n#CandelariaEsCultura
URL:https://nueva.candelaria.es/event/40-o-aniversario-de-la-bajada-del-lagar-de-la-mesa-de-igueste/
CATEGORIES:Cultura
ATTACH;FMTTYPE=image/jpeg:https://nueva.candelaria.es/wp-content/uploads/40-aniversario-Bajada-del-Lagar.jpg
END:VEVENT
BEGIN:VEVENT
DTSTART;TZID=Europe/London:20201017T210000
DTEND;TZID=Europe/London:20201017T220000
DTSTAMP:20260423T072618
CREATED:20201008T113124Z
LAST-MODIFIED:20201008T113145Z
UID:15086-1602968400-1602972000@nueva.candelaria.es
SUMMARY:Teatro. Vivir para siempre
DESCRIPTION:Espacio Cultural Cine Viejo. \nCompañía DOBLE M. Colabora: Programa Tenerife Artes Escénicas. \n#CandelariaEsCultura
URL:https://nueva.candelaria.es/event/teatro-vivir-para-siempre/
CATEGORIES:Cultura
ATTACH;FMTTYPE=image/jpeg:https://nueva.candelaria.es/wp-content/uploads/Teatro-Vivir-es-para-siempre.jpg
END:VEVENT
BEGIN:VEVENT
DTSTART;TZID=Europe/London:20201017T103000
DTEND;TZID=Europe/London:20201017T140000
DTSTAMP:20260423T072618
CREATED:20201008T112933Z
LAST-MODIFIED:20201008T112948Z
UID:15084-1602930600-1602943200@nueva.candelaria.es
SUMMARY:Bebecuentos con Isabel Bolívar
DESCRIPTION:10.30 y 12.00 h. \nCentro Cultural de La Villa. \nPara bebés de 6 a 36 meses. Imprescindible inscripción previa en el Ayuntamiento Viejo. \nColabora: Cabildo de Tenerife.
URL:https://nueva.candelaria.es/event/bebecuentos-con-isabel-bolivar-2/
CATEGORIES:Cultura
ATTACH;FMTTYPE=image/jpeg:https://nueva.candelaria.es/wp-content/uploads/bebecuentos-Isabel-Bolivar.jpg
END:VEVENT
BEGIN:VEVENT
DTSTART;TZID=Europe/London:20201016T160000
DTEND;TZID=Europe/London:20201016T200000
DTSTAMP:20260423T072618
CREATED:20201008T112531Z
LAST-MODIFIED:20201008T112712Z
UID:15081-1602864000-1602878400@nueva.candelaria.es
SUMMARY:Taller de realidad virtual
DESCRIPTION:Juego musical imitar figuras con el cuerpo.\nZona Joven Punta Larga.\nProyecto Juventud activa.\nInscripción: zonajoven@candelaria.es
URL:https://nueva.candelaria.es/event/taller-de-realidad-virtual/
CATEGORIES:Juventud
ATTACH;FMTTYPE=image/jpeg:https://nueva.candelaria.es/wp-content/uploads/Taller-virtual.jpg
END:VEVENT
BEGIN:VEVENT
DTSTART;TZID=Europe/London:20201015T170000
DTEND;TZID=Europe/London:20201015T200000
DTSTAMP:20260423T072618
CREATED:20201008T110351Z
LAST-MODIFIED:20201015T120627Z
UID:15073-1602781200-1602792000@nueva.candelaria.es
SUMMARY:Encuentro online de Mujeres Rurales
DESCRIPTION:Reserva de plazas: desarrollorural@candelaria.es \nOrganiza: Servicio Técnico de Desarrollo Pesquero y Rural del Cabildo de Tenerife. \n\nCarmen Ascanio Sánchez. Departamento Sociología y Antropología Universidad de la Laguna.\nMercedes Alonso Vega. Jefa de Servicio de Capacitación Agraria Consejería Agricultura Gobierno de Canarias.\nAlba González González. Ingeniera Técnica Agrícola. Bodega Cumbres de   Abona.\nTanaira Rodríguez Díaz. Ingeniera Técnica Agrícola. Maestra de almazara. 2\nCoordinadora del evento. Estefanía Daswani Borges (Servicio de Agricultura y Desarrollo Rural del Cabildo de Tenerife.\nConduce y modera: Sofía Ramos González (periodista)\n\n  \n 
URL:https://nueva.candelaria.es/event/encuentro-online-de-mujeres-rurales/
LOCATION:Centro Rural
CATEGORIES:Desarrollo rural y pesquero
ATTACH;FMTTYPE=image/jpeg:https://nueva.candelaria.es/wp-content/uploads/Barranco-Hondo-Virgen-de-Los-Dolores.jpg
END:VEVENT
BEGIN:VEVENT
DTSTART;TZID=Europe/London:20201013T083000
DTEND;TZID=Europe/London:20201013T103000
DTSTAMP:20260423T072618
CREATED:20200915T112838Z
LAST-MODIFIED:20200915T113408Z
UID:14768-1602577800-1602585000@nueva.candelaria.es
SUMMARY:Candelaria 180º. Gestión del estrés.
DESCRIPTION:Acción formativa on line gratuita dirigida a emprendedores\, autónomos y pequeñas y medianas empresas con el objetivo de dotarles de las herramientas necesarias para hacer frente a la situación actual. \nInscripción: https://attendee.gotowebinar.com/register/176060808155327500 \n922 500 800 extensión 1103 \n 
URL:https://nueva.candelaria.es/event/candelaria-180o-gestion-del-estres/
LOCATION:On Line
CATEGORIES:Comercio,Promoción económica y Empleo
ATTACH;FMTTYPE=image/jpeg:https://nueva.candelaria.es/wp-content/uploads/resized_GESTIoN-DEL-ESTReS-cuadrado.jpg
ORGANIZER;CN="Comercio":MAILTO:adl1@candelaria.es
END:VEVENT
BEGIN:VEVENT
DTSTART;TZID=Europe/London:20201011T120000
DTEND;TZID=Europe/London:20201011T140000
DTSTAMP:20260423T072618
CREATED:20201008T105359Z
LAST-MODIFIED:20201008T105359Z
UID:15042-1602417600-1602424800@nueva.candelaria.es
SUMMARY:Celebración de a Virgen de Dolores\, Barranco Hondo
DESCRIPTION:Celebración de la Virgen de Los Dolores en Barranco Hondo \nSolemne función religiosa en la Parroquia \n12.00 h Parroquia San José\, Barranco Hondo.
URL:https://nueva.candelaria.es/event/celebracion-de-a-virgen-de-dolores-barranco-hondo/
CATEGORIES:Relaciones institucionales y protocolo
ATTACH;FMTTYPE=image/jpeg:https://nueva.candelaria.es/wp-content/uploads/Agenda-Octubre-2020-Pantallas-09.jpg
END:VEVENT
BEGIN:VEVENT
DTSTART;TZID=Europe/London:20201006T083000
DTEND;TZID=Europe/London:20201006T103000
DTSTAMP:20260423T072618
CREATED:20200915T104814Z
LAST-MODIFIED:20200915T104814Z
UID:14758-1601973000-1601980200@nueva.candelaria.es
SUMMARY:Candelaria 180 º. Motivación
DESCRIPTION:Acción formativa on line gratuita dirigida a emprendedores\, autónomos y pequeñas y medianas empresas con el objetivo de dotarles de las herramientas necesarias para hacer frente a la situación actual. \n  \nInscripción:  https://attendee.gotowebinar.com/register/1725272691691631372
URL:https://nueva.candelaria.es/event/candelaria-180-o-motivacion/
LOCATION:On Line
CATEGORIES:Comercio,Promoción económica y Empleo
ATTACH;FMTTYPE=image/jpeg:https://nueva.candelaria.es/wp-content/uploads/resized_MOTIVACION-cuadrado.jpg
ORGANIZER;CN="Agencia de Empleo y Desarrollo Local":MAILTO:adl1@candelaria.es
END:VEVENT
BEGIN:VEVENT
DTSTART;TZID=Europe/London:20200928T163000
DTEND;TZID=Europe/London:20200930T190000
DTSTAMP:20260423T072618
CREATED:20200824T113939Z
LAST-MODIFIED:20200824T113939Z
UID:14393-1601310600-1601492400@nueva.candelaria.es
SUMMARY:Curso de extensión universitaria: alquiler vacacional
DESCRIPTION:Lunes 28 a miércoles 30.16.30 h.\nCentro Tecnológico de Candelaria. CTCAN.\nInscripción: página de la ULL. Cursos de Ayuntamientos.
URL:https://nueva.candelaria.es/event/curso-de-extension-universitaria-alquiler-vacacional/
CATEGORIES:Promoción económica y Empleo
ATTACH;FMTTYPE=image/jpeg:https://nueva.candelaria.es/wp-content/uploads/CTcan.jpg
END:VEVENT
BEGIN:VEVENT
DTSTART;TZID=Europe/London:20200927T180000
DTEND;TZID=Europe/London:20200927T193000
DTSTAMP:20260423T072618
CREATED:20200824T113800Z
LAST-MODIFIED:20200824T113800Z
UID:14390-1601229600-1601235000@nueva.candelaria.es
SUMMARY:Ruta teatralizada: Candelaria\, camino al origen
DESCRIPTION:Domingo 27. 18.00 h.\nOficina de Información Turística.\nItinerario sobre la llegada del conquistador de la isla\, Don Alonso Fernando de Lugo\, el 2 de febrero de 1497\na la Cueva de Achbinico\, convirtiéndose el público en protagonista de la historia.\nApta para toda la familia. Inscripciones gratuitas en www.caminocandelaria.com
URL:https://nueva.candelaria.es/event/ruta-teatralizada-candelaria-camino-al-origen/
CATEGORIES:Turismo
ATTACH;FMTTYPE=image/jpeg:https://nueva.candelaria.es/wp-content/uploads/cueva-achibinico-candelaria-fc.jpg
END:VEVENT
BEGIN:VEVENT
DTSTART;TZID=Europe/London:20200926T103000
DTEND;TZID=Europe/London:20200926T120000
DTSTAMP:20260423T072618
CREATED:20200824T113607Z
LAST-MODIFIED:20200824T113607Z
UID:14387-1601116200-1601121600@nueva.candelaria.es
SUMMARY:Sesiones de bebecuentos con Isabel Bolívar
DESCRIPTION:Sábado 26. \n10.30 y 12.00 h. \nCentro Cultural de La Villa.\nPara bebés de 6 a 36 meses.\nColabora:Cabildo de Tenerife.\nImprescindible inscripción previa en el Ayuntamiento Viejo.
URL:https://nueva.candelaria.es/event/sesiones-de-bebecuentos-con-isabel-bolivar-2/
CATEGORIES:Cultura
ATTACH;FMTTYPE=image/jpeg:https://nueva.candelaria.es/wp-content/uploads/68457274_960226304320573_8675119624729133056_n.jpg
END:VEVENT
BEGIN:VEVENT
DTSTART;TZID=Europe/London:20200926T090000
DTEND;TZID=Europe/London:20200926T133000
DTSTAMP:20260423T072618
CREATED:20200824T113347Z
LAST-MODIFIED:20200824T113353Z
UID:14383-1601110800-1601127000@nueva.candelaria.es
SUMMARY:Ruta juvenil a Tegueste- Bajamar
DESCRIPTION:Sábado 26. 9.00 h.\nSalida desde Zona Joven Punta Larga.\nInscripción: zonajoven@candelaria.es.
URL:https://nueva.candelaria.es/event/ruta-juvenil-a-tegueste-bajamar/
CATEGORIES:Juventud
ATTACH;FMTTYPE=image/jpeg:https://nueva.candelaria.es/wp-content/uploads/Oleaje-Piscina-Bajamar.jpg
END:VEVENT
BEGIN:VEVENT
DTSTART;TZID=Europe/London:20200923T190000
DTEND;TZID=Europe/London:20200923T203000
DTSTAMP:20260423T072618
CREATED:20200824T113007Z
LAST-MODIFIED:20200824T113007Z
UID:14377-1600887600-1600893000@nueva.candelaria.es
SUMMARY:Cinefórum: 'Cuenta conmigo' de Rob Steiner\, 1986
DESCRIPTION:Miércoles 23. 19.00 h.\nZona Joven Punta Larga.\nProyección y charla de SOFÍA RAMOS y el crítico de cine EZEQUIEL HERRERA.\nCoordina: 35 MILÍMETROS. \n  \n 
URL:https://nueva.candelaria.es/event/cineforum-cuenta-conmigo-de-rob-steiner-1986/
CATEGORIES:Cultura
ATTACH;FMTTYPE=image/jpeg:https://nueva.candelaria.es/wp-content/uploads/51x38sCF8lL._AC_.jpg
END:VEVENT
BEGIN:VEVENT
DTSTART;TZID=Europe/London:20200918T170000
DTEND;TZID=Europe/London:20201009T203000
DTSTAMP:20260423T072618
CREATED:20200824T113227Z
LAST-MODIFIED:20200824T113227Z
UID:14380-1600448400-1602275400@nueva.candelaria.es
SUMMARY:Curso 'Más que palabras: pensamiento\, escritura y voz'
DESCRIPTION:Viernes 18. 17.30 a 20.30 h.\nEspacio Cultural Ayuntamiento Viejo.\nFilosofía de las emociones. 18 de septiembre a 9 de octubre.\nMicrorrelato. 16 de octubre a 6 de noviembre.\nOratoria. 13 de noviembre a 4 de diciembre.\nPara mayores de edad. Prioridad para empadronados.18 plazas para el curso completo.\nInscripciones: Espacio Cultural Ayuntamiento Viejo.\nCoordina: CULTURALIAS.
URL:https://nueva.candelaria.es/event/curso-mas-que-palabras-pensamiento-escritura-y-voz/
CATEGORIES:Cultura
ATTACH;FMTTYPE=image/jpeg:https://nueva.candelaria.es/wp-content/uploads/starfish2.jpg
END:VEVENT
BEGIN:VEVENT
DTSTART;TZID=Europe/London:20200917T180000
DTEND;TZID=Europe/London:20200917T190000
DTSTAMP:20260423T072618
CREATED:20200824T112745Z
LAST-MODIFIED:20200915T105704Z
UID:14375-1600365600-1600369200@nueva.candelaria.es
SUMMARY:Charla: Energía azul. APLAZADA
DESCRIPTION:Jueves 17. 18.00 h.\nCentro Cultural de la Villa.\nReserva de plazas en el correo: desarrollorural@candelaria.es. \n  \n 
URL:https://nueva.candelaria.es/event/charla-energia-azul/
CATEGORIES:Medio ambiente natural
ATTACH;FMTTYPE=image/jpeg:https://nueva.candelaria.es/wp-content/uploads/centro_cultural_la_villa_10.jpg
END:VEVENT
BEGIN:VEVENT
DTSTART;TZID=Europe/London:20200908T083000
DTEND;TZID=Europe/London:20200908T103000
DTSTAMP:20260423T072618
CREATED:20200915T111641Z
LAST-MODIFIED:20200915T112453Z
UID:14764-1599553800-1599561000@nueva.candelaria.es
SUMMARY:Candelaria 180º. Gestión del cambio
DESCRIPTION:Acción formativa on line gratuita dirigida a emprendedores\, autónomos y pequeñas y medianas empresas con el objetivo de dotarles de las herramientas necesarias para hacer frente a la situación actual. \nInscripción: https://register.gotowebinar.com/register/6423808034085479948 \n  \n  \n922 500 800 extensión 1103 \n 
URL:https://nueva.candelaria.es/event/candelaria-180o-gestion-del-cambio/
LOCATION:On Line
CATEGORIES:Comercio,Promoción económica y Empleo
ATTACH;FMTTYPE=image/jpeg:https://nueva.candelaria.es/wp-content/uploads/resized_GESTION-DEL-CAMBIO-cuadrado.jpg
ORGANIZER;CN="Agencia de Empleo y Desarrollo Local":MAILTO:adl1@candelaria.es
END:VEVENT
BEGIN:VEVENT
DTSTART;TZID=Europe/London:20200904T180000
DTEND;TZID=Europe/London:20200904T190000
DTSTAMP:20260423T072618
CREATED:20200824T112637Z
LAST-MODIFIED:20200824T112637Z
UID:14372-1599242400-1599246000@nueva.candelaria.es
SUMMARY:Charla: Aves marinas de Canarias
DESCRIPTION:Viernes 4. 18.00 h.\nCentro Cultural de la Villa.\nInscripciones: medioambiente@candelaria.es.\nColabora: Voluntariado Ambiental del Cabildo de Tenerife.
URL:https://nueva.candelaria.es/event/charla-aves-marinas-de-canarias/
CATEGORIES:Medio ambiente natural
ATTACH;FMTTYPE=image/jpeg:https://nueva.candelaria.es/wp-content/uploads/centro_cultural_la_villa_10.jpg
END:VEVENT
BEGIN:VEVENT
DTSTART;TZID=Europe/London:20200902T080000
DTEND;TZID=Europe/London:20200930T170000
DTSTAMP:20260423T072618
CREATED:20200824T112505Z
LAST-MODIFIED:20200824T112505Z
UID:14369-1599033600-1601485200@nueva.candelaria.es
SUMMARY:Rutas guiadas 'Camino Candelaria'
DESCRIPTION:Días 2\, 5\, 9\, 12\, 16\, 19\, 21\, 22\, 23\, 24\, 25\, 26 y 30 de septiembre. 10.00 y 12.00 h.\nOficina de Información Turística.\nDisfruta de los valores tradicionales\, culturales e históricos\, evocando antiguas leyendas.\nApta para toda la familia. Inscripciones en www.caminocandelaria.com.
URL:https://nueva.candelaria.es/event/rutas-guiadas-camino-candelaria/
CATEGORIES:Turismo
ATTACH;FMTTYPE=image/jpeg:https://nueva.candelaria.es/wp-content/uploads/118208712_3178836742201122_6486074548895078310_o.jpg
END:VEVENT
BEGIN:VEVENT
DTSTART;TZID=Europe/London:20200901T080000
DTEND;TZID=Europe/London:20200930T170000
DTSTAMP:20260423T072618
CREATED:20200824T112308Z
LAST-MODIFIED:20200824T112308Z
UID:14363-1598947200-1601485200@nueva.candelaria.es
SUMMARY:Talleres y actividades en medianías
DESCRIPTION:Lunes a viernes. 16.00 a 20.00 h. \nEspacios culturales de Barranco Hondo\, Igueste\, Araya\, Las Cuevecitas y Malpaís.\nCine\, talleres\, juegos\, lecturas\, repaso escolar y actividades de animación.Algunos centros también harán actividades por la mañana. Consulta programación en cada espacio.
URL:https://nueva.candelaria.es/event/talleres-y-actividades-en-medianias/
CATEGORIES:Cultura
ATTACH;FMTTYPE=image/jpeg:https://nueva.candelaria.es/wp-content/uploads/7-centro-cho-morrocoyo.jpg
END:VEVENT
BEGIN:VEVENT
DTSTART;TZID=Europe/London:20200829T080000
DTEND;TZID=Europe/London:20200829T140000
DTSTAMP:20260423T072618
CREATED:20200804T072431Z
LAST-MODIFIED:20200804T072431Z
UID:12958-1598688000-1598709600@nueva.candelaria.es
SUMMARY:Sendero- Ruta Los Brezos
DESCRIPTION:Sábado 29. 8.00 h.\nPrograma Voluntariado Ambiental Candelaria 2020\nItinerario: ruta circular. Dificultad: media/alta. Distancia: 8 km.
URL:https://nueva.candelaria.es/event/sendero-ruta-los-brezos/
CATEGORIES:Desarrollo rural y pesquero
ATTACH;FMTTYPE=image/jpeg:https://nueva.candelaria.es/wp-content/uploads/sl-tf-294-brezos-candelaria-gal01.jpg
END:VEVENT
BEGIN:VEVENT
DTSTART;TZID=Europe/London:20200827T100000
DTEND;TZID=Europe/London:20200827T120000
DTSTAMP:20260423T072618
CREATED:20200702T142302Z
LAST-MODIFIED:20200702T142311Z
UID:11365-1598522400-1598529600@nueva.candelaria.es
SUMMARY:Ruta Patrimonial. Este Verano Descubre Candelaria
DESCRIPTION:“RUTA PATRIMONIAL” \nTe invitamos a conocer nuestro entorno patrimonial\, donde aprenderemos un poco más sobre la historia y cultura de la Villa. Veremos el primer núcleo poblacional del valle tras la conquista castellana y el primer nombre que se le dio a nuestro pueblo. Y conocerás los Pleitos de los Naturales\, defensores de que la imagen de la Virgen permaneciera en nuestra localidad. Apta para toda la familia. \n  \nPUNTO DE ENCUENTRO: Plaza Teror a las 10:00 horas. \nDÍAS: 16 y 28 de julio\, y 17 y 27 de agosto. \nDURACIÓN: 2 horas. \nInscripciones. oit@candelaria.es  \n  \nEnlace de inscripción
URL:https://nueva.candelaria.es/event/ruta-patrimonial-este-verano-descubre-candelaria-4/
CATEGORIES:Turismo
ATTACH;FMTTYPE=image/jpeg:https://nueva.candelaria.es/wp-content/uploads/CARTEL-DESCUBRE-CANDELARIA-C-1.jpg
END:VEVENT
BEGIN:VEVENT
DTSTART;TZID=Europe/London:20200824T080000
DTEND;TZID=Europe/London:20200824T170000
DTSTAMP:20260423T072618
CREATED:20200824T112404Z
LAST-MODIFIED:20200824T112404Z
UID:14366-1598256000-1598288400@nueva.candelaria.es
SUMMARY:Temporada de exposiciones
DESCRIPTION:Espacio Cultural Ayuntamiento Viejo. \nPrendas\, trajes y tipismo. Vestuario artesanal del Consejo Sectorial de Indumentaria Tradicional de Tenerife.\nCabildo Insular de Tenerife. \nAgosto para la historia. Carteles e imágenes de las Fiestas de agosto desde el siglo pasado.\nCreando espacios. Fotografías de Juan Oller. TEA Tenerife Espacios de las Artes. Hasta el 20 de noviembre.\nPinturas de Dimas Coello. Colección municipal permanente.\nHasta el 11 de septiembre. Lunes a viernes\, 8.30 a 14.00 y 16.00 a 20.00 h.
URL:https://nueva.candelaria.es/event/temporada-de-exposiciones/
CATEGORIES:Cultura
ATTACH;FMTTYPE=image/jpeg:https://nueva.candelaria.es/wp-content/uploads/resized_20191007_085142-1.jpg
END:VEVENT
BEGIN:VEVENT
DTSTART;TZID=Europe/London:20200823T090000
DTEND;TZID=Europe/London:20200823T170000
DTSTAMP:20260423T072618
CREATED:20200702T135112Z
LAST-MODIFIED:20200702T140157Z
UID:11341-1598173200-1598202000@nueva.candelaria.es
SUMMARY:Tras la ruta del Pirata. Este verano descubre Candelaria
DESCRIPTION:“TRAS LA RUTA DEL PIRATA” \nA través de esta primera ruta recorreremos el sendero local homologado Samarines\, descubriendo las especies propias de la flora y fauna autóctona\, las formaciones de primitivas actividades volcánicas y quizás encontremos el tesoro del pirata Cabeza de Perro. Apta para toda la familia. \n  \nPUNTO DE ENCUENTRO: Fuente de los Peregrinos a las 9:00 horas. \nDÍAS: Domingos\, 5 y 19 de julio\, y 2 y 23 de agosto. \nDURACIÓN: 3 horas. \nInscripciones: oit@candelaria.es \nEnlace de inscripción
URL:https://nueva.candelaria.es/event/tras-la-ruta-este-verano-descubre-candelaria/
CATEGORIES:Turismo
ATTACH;FMTTYPE=image/jpeg:https://nueva.candelaria.es/wp-content/uploads/CARTEL-DESCUBRE-CANDELARIA-C-1.jpg
END:VEVENT
BEGIN:VEVENT
DTSTART;TZID=Europe/London:20200822T090000
DTEND;TZID=Europe/London:20200822T130000
DTSTAMP:20260423T072618
CREATED:20200804T072245Z
LAST-MODIFIED:20200804T072245Z
UID:12955-1598086800-1598101200@nueva.candelaria.es
SUMMARY:Limpieza terrestre y de fondos
DESCRIPTION:Sábado 22. 9.00 h.\nPrograma de Voluntariado Ambiental Candelaria 2020.\nColabora: Voluntariado Cabildo de Tenerife\, Asociación Promemar y Cruz Roja
URL:https://nueva.candelaria.es/event/limpieza-terrestre-y-de-fondos/
CATEGORIES:Medio ambiente natural
ATTACH;FMTTYPE=image/jpeg:https://nueva.candelaria.es/wp-content/uploads/limpieza_playa_septiembre_2017_3.jpg
END:VEVENT
END:VCALENDAR